BEGIN:VCALENDAR
PRODID:NingEventWidget-v1
VERSION:2.0
METHOD:PUBLISH
BEGIN:VTIMEZONE
TZID:Europe/Paris
X-LIC-LOCATION:Europe/Paris
BEGIN:DAYLIGHT
TZOFFSETFROM:+0100
TZOFFSETTO:+0200
TZNAME:CEST
DTSTART:19700329T020000
RRULE:FREQ=YEARLY;BYMONTH=3;BYDAY=-1SU
END:DAYLIGHT
BEGIN:STANDARD
TZOFFSETFROM:+0200
TZOFFSETTO:+0100
TZNAME:CET
DTSTART:19701025T030000
RRULE:FREQ=YEARLY;BYMONTH=10;BYDAY=-1SU
END:STANDARD
END:VTIMEZONE
BEGIN:VEVENT
UID:2485226:Event:677993
DTSTAMP:20260422T061135Z
SUMMARY:SÃ©jour de printemps 2012 en Bretagne : le Renouveau
DESCRIPTION:\nTARIFSÂ \n20â‚¬ la nuit, si chambres partagÃ©es soit 80â
 ‚¬ les 4 nuits\nsi souhait de chambre individuelles nous consulter\nNo
 urritureÂ : estimÃ© Ã  35â‚¬/jour soitÂ  140 â‚¬\nSi rÃ©gime particuli
 er nous consulter\nAnimationÂ (y compris randonnÃ©e contÃ©e): 177 euro
 s\nÂ \nTOTALÂ : 397 Euros au total\nÂ \nPrÃ©voir sur place les frais d
 â€™essence vers les sites\nLocation dâ€™un vÃ©hicule supplÃ©mentaire Ã
   envisager si groupe supÃ©rieur Ã  4 personnes\n(les tarifs seront aj
 ustÃ©s en fonction du nombre de participants, Ã  votre avantage, biens
 Ã»r)\nÂ \nPour toute question, contacter Alexandra Merer au 06 65 42 3
 1 70 odysseecreative@hotmail.frÂ \nvoir le site de lâ€™asso pour plus 
 d'informations sur le programme :Â  http://www.odysseecreative.fr/\n\n
 Pour plus d'information, aller sur https://epanews.fr/events/stage-de-
 printemps-2012-en-bretagne-le-renouveau
DTSTART;TZID=Europe/Paris:20120218T180000
DTEND;TZID=Europe/Paris:20120222T180000
CATEGORIES:29
LOCATION:Huelgoat (Centre FinistÃ¨re)
WEBSITE:
URL:
CONTACT:
ORGANIZER;CN="Alexandra Merer":https://epanews.fr/profile/AlexandraMer
 er
ATTACH;FMTTYPE="image/jpeg":http://storage.ning.com/topology/rest/1.0/
 file/get/1662550514?profile=original
ATTENDEE;ROLE=REQ-PARTICIPANT;PARTSTAT=ACCEPTED;RSVP=TRUE;CN="Alexandr
 a Merer":https://epanews.fr/profile/AlexandraMerer
END:VEVENT
END:VCALENDAR
