BEGIN:VCALENDAR
PRODID:NingEventWidget-v1
VERSION:2.0
METHOD:PUBLISH
BEGIN:VTIMEZONE
TZID:Europe/Paris
X-LIC-LOCATION:Europe/Paris
BEGIN:DAYLIGHT
TZOFFSETFROM:+0100
TZOFFSETTO:+0200
TZNAME:CEST
DTSTART:19700329T020000
RRULE:FREQ=YEARLY;BYMONTH=3;BYDAY=-1SU
END:DAYLIGHT
BEGIN:STANDARD
TZOFFSETFROM:+0200
TZOFFSETTO:+0100
TZNAME:CET
DTSTART:19701025T030000
RRULE:FREQ=YEARLY;BYMONTH=10;BYDAY=-1SU
END:STANDARD
END:VTIMEZONE
BEGIN:VEVENT
UID:2485226:Event:57332
DTSTAMP:20260419T181551Z
SUMMARY:Stage de Peinture sensorielle et danse
DESCRIPTION:Ni une question de talent\nni un luxe, crÃ©er\nc'est voulo
 ir s'engager\navec ouverture dans sa vie.\nDanser et Peindre\ndevient 
 un voyage,\nriche en dÃ©couvertes\net en surprises...\nLe but de ces s
 tages est\nde faciliter les processus\nde changement et de\ntransforma
 tion dans la vie.\nL'objectif est de se relier\navec notre potentiel c
 rÃ©ateur\ninnÃ©, souvent enfoui\nqui ne demande qu'Ã  Ãªtre\nrÃ©veillÃ
 ©, accueilli et honorÃ©.\n\nPour plus d'information, aller sur https:/
 /epanews.fr/events/stage-de-peinture-sensorielle
DTSTART;TZID=Europe/Paris:20100522T210000
DTEND;TZID=Europe/Paris:20100523T210000
CATEGORIES:82200
LOCATION:Moissac ( 40Min Toulouse )
WEBSITE:
URL:
CONTACT:06.95.03.57.92
ORGANIZER;CN="Suire claire":https://epanews.fr/profile/Suireclaire
ATTACH;FMTTYPE="image/jpeg":
ATTENDEE;ROLE=REQ-PARTICIPANT;PARTSTAT=ACCEPTED;RSVP=TRUE;CN="Suire cl
 aire":https://epanews.fr/profile/Suireclaire
ATTENDEE;ROLE=REQ-PARTICIPANT;PARTSTAT=TENTATIVE;RSVP=TRUE;CN=Bianca:h
 ttps://epanews.fr/profile/shiatsu
END:VEVENT
END:VCALENDAR
