BEGIN:VCALENDAR
PRODID:NingEventWidget-v1
VERSION:2.0
METHOD:PUBLISH
BEGIN:VTIMEZONE
TZID:Europe/Paris
X-LIC-LOCATION:Europe/Paris
BEGIN:DAYLIGHT
TZOFFSETFROM:+0100
TZOFFSETTO:+0200
TZNAME:CEST
DTSTART:19700329T020000
RRULE:FREQ=YEARLY;BYMONTH=3;BYDAY=-1SU
END:DAYLIGHT
BEGIN:STANDARD
TZOFFSETFROM:+0200
TZOFFSETTO:+0100
TZNAME:CET
DTSTART:19701025T030000
RRULE:FREQ=YEARLY;BYMONTH=10;BYDAY=-1SU
END:STANDARD
END:VTIMEZONE
BEGIN:VEVENT
UID:2485226:Event:2185748
DTSTAMP:20260425T205750Z
SUMMARY:Stage de massage (mains)
DESCRIPTION:Découvrir le massage des mains\nDimanche 25 Janvier, au t
 erme du stage, vous repartirez avec en mains un massage que vous pourr
 ez pratiquer à loisir en famille.\nQUAND? Dilanche 25 janvier 8h45 / 
 12h15 OU? au foyer rural de GRENADE 31330 QUOI? DECOUVERTE DU MASSAGE 
 DES MAINS QUOI D'AUTRE? http://monheureamoi.heb3.org/index.php/m-actu/
 110-stage-massage-des-mains\n\n\nPetit plus: l'après-midi,les partici
 pants auront accès au GROUPE D'ECHANGE  de MASSAGES de BIEN-ETRE pou
 r pratiquer immédiatement\n\nPour plus d'information, aller sur https
 ://epanews.fr/events/stage-de-massage-mains
DTSTART;TZID=Europe/Paris:20150125T084500
DTEND;TZID=Europe/Paris:20150125T121500
CATEGORIES:31
LOCATION:Grenade
WEBSITE:http://monheureamoi.heb3.org/index.php/m-actu/88-stage-massage
 -despieds
URL:http://monheureamoi.heb3.org/index.php/m-actu/88-stage-massage-des
 pieds
CONTACT:06 51 92 99 00
ORGANIZER;CN=monheure:https://epanews.fr/profile/monheure
ATTACH;FMTTYPE="image/jpeg":
ATTENDEE;ROLE=REQ-PARTICIPANT;PARTSTAT=ACCEPTED;RSVP=TRUE;CN=monheure:
 https://epanews.fr/profile/monheure
END:VEVENT
END:VCALENDAR
