BEGIN:VCALENDAR
PRODID:NingEventWidget-v1
VERSION:2.0
METHOD:PUBLISH
BEGIN:VTIMEZONE
TZID:Europe/Paris
X-LIC-LOCATION:Europe/Paris
BEGIN:DAYLIGHT
TZOFFSETFROM:+0100
TZOFFSETTO:+0200
TZNAME:CEST
DTSTART:19700329T020000
RRULE:FREQ=YEARLY;BYMONTH=3;BYDAY=-1SU
END:DAYLIGHT
BEGIN:STANDARD
TZOFFSETFROM:+0200
TZOFFSETTO:+0100
TZNAME:CET
DTSTART:19701025T030000
RRULE:FREQ=YEARLY;BYMONTH=10;BYDAY=-1SU
END:STANDARD
END:VTIMEZONE
BEGIN:VEVENT
UID:2485226:Event:619706
DTSTAMP:20260423T210522Z
SUMMARY:Stage de massage dÃ©tente - 14 et 15 janvier 2012
DESCRIPTION:Stage de massage dÃ©tente niveau I au jardin IntÃ©rieur Ã 
  NÃ®mes\n\"A visÃ©e relaxante et anti-stress (prÃ©ventif).\"  pour plu
 s d'infos cliquez sur le lien suivant:  www.lemniscate-processus.com/d
 ocuments_telechargeables.html)\n\nâ€œ Retour vers Soi, Au-delÃ  du Sen
 sible par le Travail Interne â€œ  Contacter signifie harmoniser les ch
 amps de deux espaces vivants, en un seul.  En utilisant la posture d'e
 nracinement de tai chi chuan en nous enracinant dans le tan tien infÃ©
 rieur,Â  nous avons par consÃ©quent, accÃ¨s directement au Chi.  Par e
 ffet de rÃ©sonance, notre contact va produire des effets de bien-Ãªtre
 , de dÃ©tente, de fluiditÃ©, de restauration des tissus, de guÃ©rison,
  de perceptions de l'unitÃ© par le recentrage.\n\nLes formations Lemni
 scate Processus sont destinÃ©es Ã  toute personne ayant pris conscienc
 e de la nÃ©cessitÃ© de s'impliquer. Cela signifie qu'on ne prodigue pa
 s unÂ  massage en restant Ã  l'extÃ©rieur, mais que d'une certaine man
 iÃ¨re Ã  chaque fois que l'on rentre enÂ  relation,Â  en contact avecÂ
   une autre personne on rentre Ã©galement en contact avec soi-mÃªme et
  profondÃ©ment.\nÂ  Il ne s'agit pas uniquement d'apprendre des techni
 ques, mais un Ã‰tat d'Ãªtre, un positionnement, un retour au vrai sile
 nce.\n Vous avez Ã©tÃ© nombreux lâ€™annÃ©e derniÃ¨re Ã  participer au 
 stage massage dÃ©tente niveau 1 proposÃ© par lâ€™Ã©cole Lemniscate Pro
 cessus. Nous vous remercions pour les retours bien heureux et chaleure
 ux. La pratique reste la seule alliÃ©e de ce moment,Â  parÂ  le contac
 t, au delÃ  du sensible.Cette annÃ©e Lemniscate Processus vous propose
  une formation Ã  gÃ©omÃ©trie variable. Ceux et celles qui ont validÃ©
  le premier niveau de massage peuvent continuer leur cursus de formati
 on, soit en effectuant un choix Ã  la carte soit en sâ€™inscrivant Ã  
 la formation complÃ¨te selon les dates prÃ©vuesÂ  et les modalitÃ©s sâ
 €™y rÃ©fÃ©rant.  Intervenant : FranÃ§ois LOUTREL, kinÃ©sithÃ©rapeute-o
 sthÃ©opathe DE-lemniscate processus thÃ©rapie-enseignant de Tai Chi Ch
 uan-disciple de MaÃ®tre Chu King Hung.\n Ouvert Ã  tous, dÃ©butants ou
  confirmÃ©s.  Participation : 100 â‚¬.  Renseignements et inscription 
 : contact@lemniscate-processus.com  Le jardin IntÃ©rieur, ZA de la Pon
 che, 4 rte d'Avignon, 30320 Marguerittes.  www.jardin-interieur-nimes.
 com\n\nPour plus d'information, aller sur https://epanews.fr/events/st
 age-de-massage-d-tente-14-et-15-janvier-2012
DTSTART;TZID=Europe/Paris:20120114T000000
DTEND;TZID=Europe/Paris:20120115T235900
CATEGORIES:30, 34, 84
LOCATION:NIMES
WEBSITE:http://www.lemniscate-processus.com
URL:http://www.lemniscate-processus.com
CONTACT:0466261683 - 0966837106
ORGANIZER;CN="Jardin intÃ©rieur":https://epanews.fr/profile/Lemniscate
 Processus
ATTACH;FMTTYPE="image/jpeg":
ATTENDEE;ROLE=REQ-PARTICIPANT;PARTSTAT=ACCEPTED;RSVP=TRUE;CN="Jardin i
 ntÃ©rieur":https://epanews.fr/profile/LemniscateProcessus
END:VEVENT
END:VCALENDAR
