BEGIN:VCALENDAR
PRODID:NingEventWidget-v1
VERSION:2.0
METHOD:PUBLISH
BEGIN:VTIMEZONE
TZID:Europe/Paris
X-LIC-LOCATION:Europe/Paris
BEGIN:DAYLIGHT
TZOFFSETFROM:+0100
TZOFFSETTO:+0200
TZNAME:CEST
DTSTART:19700329T020000
RRULE:FREQ=YEARLY;BYMONTH=3;BYDAY=-1SU
END:DAYLIGHT
BEGIN:STANDARD
TZOFFSETFROM:+0200
TZOFFSETTO:+0100
TZNAME:CET
DTSTART:19701025T030000
RRULE:FREQ=YEARLY;BYMONTH=10;BYDAY=-1SU
END:STANDARD
END:VTIMEZONE
BEGIN:VEVENT
UID:2485226:Event:834109
DTSTAMP:20260421T225804Z
SUMMARY:Stage de mandalas
DESCRIPTION:Se centrer au coeur de son coeur,  faire émerger sa cré
 ativité à travers un stage de 3/5 jours  dans un cadre exceptionnel
  en pleine nature, c'est ce que je vous propose de partager\n\nPour pl
 us d'information, aller sur https://epanews.fr/events/stage-de-mandala
 s-1
DTSTART;TZID=Europe/Paris:20120730T170000
DTEND;TZID=Europe/Paris:20120803T220000
CATEGORIES:tous
LOCATION:En Anjou
WEBSITE:https://sites.google.com/site/chrismandalas/
URL:https://sites.google.com/site/chrismandalas/
CONTACT:06 50 92 31 52
ORGANIZER;CN="Arnaud-Rougier Christine":https://epanews.fr/profile/Arn
 audRougierChristine
ATTACH;FMTTYPE="image/jpeg":http://storage.ning.com/topology/rest/1.0/
 file/get/1662613999?profile=original
ATTENDEE;ROLE=REQ-PARTICIPANT;PARTSTAT=ACCEPTED;RSVP=TRUE;CN="Arnaud-R
 ougier Christine":https://epanews.fr/profile/ArnaudRougierChristine
END:VEVENT
END:VCALENDAR
