BEGIN:VCALENDAR
PRODID:NingEventWidget-v1
VERSION:2.0
METHOD:PUBLISH
BEGIN:VTIMEZONE
TZID:Europe/Paris
X-LIC-LOCATION:Europe/Paris
BEGIN:DAYLIGHT
TZOFFSETFROM:+0100
TZOFFSETTO:+0200
TZNAME:CEST
DTSTART:19700329T020000
RRULE:FREQ=YEARLY;BYMONTH=3;BYDAY=-1SU
END:DAYLIGHT
BEGIN:STANDARD
TZOFFSETFROM:+0200
TZOFFSETTO:+0100
TZNAME:CET
DTSTART:19701025T030000
RRULE:FREQ=YEARLY;BYMONTH=10;BYDAY=-1SU
END:STANDARD
END:VTIMEZONE
BEGIN:VEVENT
UID:2485226:Event:2583143
DTSTAMP:20260421T113121Z
SUMMARY:Stage de méditation de Pleine Conscience
DESCRIPTION:Cinq grandes journées de Pleine Conscience pour installer
  la méditation au cœur de sa vie\nDu 14 au 19 août 2016, stage en r
 ésidentiel au domaine de Fondjouan (près de Blois)\nAu quotidien, at
 eliers et pratiques de méditation de Pleine Conscience, Qi qong, yoga
 , sophrologie et soirées conviviales\nAvec Gilles Pentecôte, Bernard
  Jeanroy, Nicole Dormeau, Philippe Boiteux et Banu Gokoglan\n\nPour pl
 us d'information, aller sur https://epanews.fr/events/stage-de-m-ditat
 ion-de-pleine-conscience
DTSTART;TZID=Europe/Paris:20160814T000000
DTEND;TZID=Europe/Paris:20160819T180000
CATEGORIES:41
LOCATION:Domaine de Foundjouan - Mur de Sologne
WEBSITE:
URL:
CONTACT:
ORGANIZER;CN=ChristineV:https://epanews.fr/profile/ChristineV
ATTACH;FMTTYPE="image/jpeg":http://storage.ning.com/topology/rest/1.0/
 file/get/1663532349?profile=original
ATTENDEE;ROLE=REQ-PARTICIPANT;PARTSTAT=ACCEPTED;RSVP=TRUE;CN=Christine
 V:https://epanews.fr/profile/ChristineV
END:VEVENT
END:VCALENDAR
