BEGIN:VCALENDAR
PRODID:NingEventWidget-v1
VERSION:2.0
METHOD:PUBLISH
BEGIN:VTIMEZONE
TZID:Europe/Paris
X-LIC-LOCATION:Europe/Paris
BEGIN:DAYLIGHT
TZOFFSETFROM:+0100
TZOFFSETTO:+0200
TZNAME:CEST
DTSTART:19700329T020000
RRULE:FREQ=YEARLY;BYMONTH=3;BYDAY=-1SU
END:DAYLIGHT
BEGIN:STANDARD
TZOFFSETFROM:+0200
TZOFFSETTO:+0100
TZNAME:CET
DTSTART:19701025T030000
RRULE:FREQ=YEARLY;BYMONTH=10;BYDAY=-1SU
END:STANDARD
END:VTIMEZONE
BEGIN:VEVENT
UID:2485226:Event:1821604
DTSTAMP:20260420T211046Z
SUMMARY:stage de jeÃ»ne en groupe en Suisse romande
DESCRIPTION:JeÃ»ne accompagnÃ© en GruyÃ¨res, avec Yoga, relaxation, mÃ
 ©ditation, travail sur soi, randonnÃ©es. Mai 2014, il est temps de s'i
 nscrire...\n\nPour plus d'information, aller sur https://epanews.fr/ev
 ents/stage-de-je-ne-en-groupe-en-suisse-romande
DTSTART;TZID=Europe/Paris:20140511T180000
DTEND;TZID=Europe/Paris:20140517T190000
CATEGORIES:suisse
LOCATION:Centre Shalom
WEBSITE:http://www.isayoga.ch
URL:http://www.isayoga.ch
CONTACT:+41796235592
ORGANIZER;CN=Isayoga:https://epanews.fr/profile/Isayoga
ATTACH;FMTTYPE="image/jpeg":
ATTENDEE;ROLE=REQ-PARTICIPANT;PARTSTAT=ACCEPTED;RSVP=TRUE;CN=Isayoga:h
 ttps://epanews.fr/profile/Isayoga
END:VEVENT
END:VCALENDAR
