BEGIN:VCALENDAR
PRODID:NingEventWidget-v1
VERSION:2.0
METHOD:PUBLISH
BEGIN:VTIMEZONE
TZID:Europe/Paris
X-LIC-LOCATION:Europe/Paris
BEGIN:DAYLIGHT
TZOFFSETFROM:+0100
TZOFFSETTO:+0200
TZNAME:CEST
DTSTART:19700329T020000
RRULE:FREQ=YEARLY;BYMONTH=3;BYDAY=-1SU
END:DAYLIGHT
BEGIN:STANDARD
TZOFFSETFROM:+0200
TZOFFSETTO:+0100
TZNAME:CET
DTSTART:19701025T030000
RRULE:FREQ=YEARLY;BYMONTH=10;BYDAY=-1SU
END:STANDARD
END:VTIMEZONE
BEGIN:VEVENT
UID:2485226:Event:263884
DTSTAMP:20260420T112738Z
SUMMARY:Stage de gymnastique \" détente & bien-être\" et connaissanc
 e de soi
DESCRIPTION:\" Un Retour à Soi \"\n \nEn ce jour du 1er mai, je vous
  invite à venir apprendre comment se relaxer et se détendre tout e
 n allant à la rencontre de soi-même, avec des exercices simples corp
 orels et de respiration.\n \nInfos pratiques :\n- porter une tenue co
 nfortable\n40 € / 30 € tarif réduit\n5 € adhésion\nInfos blog:
 \nhttp://lesdansesdel-ame.over-blog.com\n\nPour plus d'information, al
 ler sur https://epanews.fr/events/stage-de-gymnastique-detente
DTSTART;TZID=Europe/Paris:20110501T140000
DTEND;TZID=Europe/Paris:20110501T170000
CATEGORIES:31
LOCATION:Toulouse
WEBSITE:
URL:
CONTACT:0650806804
ORGANIZER;CN="Cauvel Marie-Pierre":https://epanews.fr/profile/CauvelMa
 riePierre
ATTACH;FMTTYPE="image/jpeg":http://storage.ning.com/topology/rest/1.0/
 file/get/1662409768?profile=original
ATTENDEE;ROLE=REQ-PARTICIPANT;PARTSTAT=ACCEPTED;RSVP=TRUE;CN="Cauvel M
 arie-Pierre":https://epanews.fr/profile/CauvelMariePierre
END:VEVENT
END:VCALENDAR
