BEGIN:VCALENDAR
PRODID:NingEventWidget-v1
VERSION:2.0
METHOD:PUBLISH
BEGIN:VTIMEZONE
TZID:Europe/Paris
X-LIC-LOCATION:Europe/Paris
BEGIN:DAYLIGHT
TZOFFSETFROM:+0100
TZOFFSETTO:+0200
TZNAME:CEST
DTSTART:19700329T020000
RRULE:FREQ=YEARLY;BYMONTH=3;BYDAY=-1SU
END:DAYLIGHT
BEGIN:STANDARD
TZOFFSETFROM:+0200
TZOFFSETTO:+0100
TZNAME:CET
DTSTART:19701025T030000
RRULE:FREQ=YEARLY;BYMONTH=10;BYDAY=-1SU
END:STANDARD
END:VTIMEZONE
BEGIN:VEVENT
UID:2485226:Event:2535967
DTSTAMP:20260421T162830Z
SUMMARY:stage de guérison corps-miroir - 23/24 Janvier 2016 à lyon
DESCRIPTION:Notre prochain atelier de guérison stage se déroulera le
 s 23 et 24 janvier 2016 à LYON. Il sera enseigné par Annick Brofman.
  \nPour la guérison et la connaissance de soi Pour comprendre les int
 eractions entre le corps et la conscience Pour comprendre et agir sur 
 les causes intérieures des symptômes physiques\n Synthèse de la psy
 chologie occidentale et des philosophies orientales, la Méthode Corps
 -Miroir intègre la relation entre votre corps, votre conscience et vo
 tre  vie. Les techniques et le langage Méthode Corps-Miroir sont sim
 ples et efficaces pour restaurer l'équilibre et son but est de vous a
 ider à retrouver votre état naturel d’harmonie et la manière d’
 être qui fonctionne le mieux pour vous.  LE SYSTEME DE GUERISON CORPS
 -MIROIR - de Martin Brofman   Le système du Corps Miroir est une tech
 nique, une méthode, un ensemble d'outils que tout le monde peut utili
 ser. Ces outils vous permettent d'explorer la relation qui existe entr
 e votre corps, votre conscience et votre vie, et d'étudier les attitu
 des intérieures qui ont montré qu'elles encouragent le processus de 
 guérison.  Les techniques sont si simples qu'on apprend même à les 
 utiliser aux enfants. Ce système de guérison est une synthèse de la
  psychologie Occidentale et des philosophies Orientales basées sur le
 s chakras. Chaque chakra peut être associé avec certaines parties de
  la conscience ainsi que certaines parties du corps.  Ils nous permett
 ent donc de lire le corps comme une carte de la conscience à l'intér
 ieur. Ainsi les tensions dans le corps sont vues comme le reflet de te
 nsions dans la conscience et les chakras peuvent être utilisés comme
  un véhicule pour comprendre l'interface Corps Esprit et ses implicat
 ions pour la guérison.   A la fin du stage, vous serez capables de : 
  . Vous comprendre et faire l'expérience de vous-même comme un Être
  d'énergie  . Comprendre la relation qui existe entre votre corps et 
 votre conscience  . Comprendre comment les symptômes dans le corps so
 nt le reflet de tensions dans la conscience  . Lire le corps comme ét
 ant une carte de la conscience, en comprenant les causes internes aux 
 symptômes externes.  . Utiliser divers outils destinés à la guéris
 on . Voir le résultat de la mise en application de ces techniques et 
 de ces outils   Il n'y a rien que vous ne puissiez faire, seulement de
 s choses que vous n'avez pas encore appris à faire. C'est l'opportuni
 té d'aller au-delà de vos limites perçues, de faire des choses que 
 vous pensiez impossibles, et de reconnaître la nature illimitée de v
 otre Être.\nTous les renseignements, coût et modalités d'inscriptio
 ns sur : http://www.papillons-guerisseurs.fr/Lyon.htm\n\nPour plus d'i
 nformation, aller sur https://epanews.fr/events/stage-de-gu-rison-corp
 s-miroir-23-24-janvier-2016-lyon
DTSTART;TZID=Europe/Paris:20160123T084500
DTEND;TZID=Europe/Paris:20160124T190000
CATEGORIES:69
LOCATION:LYON 7 - Mama Shelter
WEBSITE:http://www.papillons-guerisseurs.fr
URL:http://www.papillons-guerisseurs.fr
CONTACT:
ORGANIZER;CN=Magali:https://epanews.fr/profile/Magali676
ATTACH;FMTTYPE="image/jpeg":http://storage.ning.com/topology/rest/1.0/
 file/get/1663500936?profile=original
ATTENDEE;ROLE=REQ-PARTICIPANT;PARTSTAT=ACCEPTED;RSVP=TRUE;CN=Magali:ht
 tps://epanews.fr/profile/Magali676
END:VEVENT
END:VCALENDAR
