BEGIN:VCALENDAR
PRODID:NingEventWidget-v1
VERSION:2.0
METHOD:PUBLISH
BEGIN:VTIMEZONE
TZID:Europe/Paris
X-LIC-LOCATION:Europe/Paris
BEGIN:DAYLIGHT
TZOFFSETFROM:+0100
TZOFFSETTO:+0200
TZNAME:CEST
DTSTART:19700329T020000
RRULE:FREQ=YEARLY;BYMONTH=3;BYDAY=-1SU
END:DAYLIGHT
BEGIN:STANDARD
TZOFFSETFROM:+0200
TZOFFSETTO:+0100
TZNAME:CET
DTSTART:19701025T030000
RRULE:FREQ=YEARLY;BYMONTH=10;BYDAY=-1SU
END:STANDARD
END:VTIMEZONE
BEGIN:VEVENT
UID:2485226:Event:965697
DTSTAMP:20260420T124330Z
SUMMARY:Stage de gestion du stress Ã  tarif associatif - atelier 1
DESCRIPTION:Premier de deux ateliers sur la gestion du stress\nLe stre
 ss fait partie de notre vie. Ce syndrome d'adaptation est l'ensemble d
 es rÃ©ponses de notre organismeÂ soumis Ã  des pressions ouÂ contraint
 esÂ de la part de notre environnement. Dans le langage courant, on par
 le deÂ stress positifÂ ou nÃ©gatif.\nIl convient de le connaÃ®tre, de 
 le reconnaÃ®tre, de savoir quoi faire pour bien le vivre.\nCes atelier
 s permettent de mieux le comprendre, dâ€™en identifier les symptÃ´mes 
 et dâ€™avoir des moyens pour agir quand le stress est lÃ  et ce dÃ¨s l
 es premiers signaux de notre organisme. Nous aborderons aussi la gesti
 on du temps, en lien avec le stress.\nAtelier 1 :Les mÃ©canismes du st
 ress, les aspects biologiques et psychologiques. Les consÃ©quences du 
 stress. Les actions. La gestion du temps.\nCes deux ateliers offrent u
 n enseignement de qualitÃ© professionnelle Ã  tarif associatif. Â 20â‚
 ¬ la demi journÃ©e\n\nPour plus d'information, aller sur https://epane
 ws.fr/events/stage-de-gestion-du-stress-tarif-associatif-atelier-1
DTSTART;TZID=Europe/Paris:20121011T140000
DTEND;TZID=Europe/Paris:20121011T173000
CATEGORIES:78
LOCATION:Le VÃ©sinet
WEBSITE:http://www.vivresavie.org
URL:http://www.vivresavie.org
CONTACT:0685592770
ORGANIZER;CN=Nadine:https://epanews.fr/profile/Nadine737
ATTACH;FMTTYPE="image/jpeg":
ATTENDEE;ROLE=REQ-PARTICIPANT;PARTSTAT=ACCEPTED;RSVP=TRUE;CN=Nadine:ht
 tps://epanews.fr/profile/Nadine737
END:VEVENT
END:VCALENDAR
