BEGIN:VCALENDAR
PRODID:NingEventWidget-v1
VERSION:2.0
METHOD:PUBLISH
BEGIN:VTIMEZONE
TZID:Europe/Paris
X-LIC-LOCATION:Europe/Paris
BEGIN:DAYLIGHT
TZOFFSETFROM:+0100
TZOFFSETTO:+0200
TZNAME:CEST
DTSTART:19700329T020000
RRULE:FREQ=YEARLY;BYMONTH=3;BYDAY=-1SU
END:DAYLIGHT
BEGIN:STANDARD
TZOFFSETFROM:+0200
TZOFFSETTO:+0100
TZNAME:CET
DTSTART:19701025T030000
RRULE:FREQ=YEARLY;BYMONTH=10;BYDAY=-1SU
END:STANDARD
END:VTIMEZONE
BEGIN:VEVENT
UID:2485226:Event:1295717
DTSTAMP:20260422T203200Z
SUMMARY:Stage de Formation en GÃ©obiologie Scientifique
DESCRIPTION:1er MODULEÂ ThÃ©orie et pratiqueÂ \nAnimÃ© par Alain de Lu
 zan, ingÃ©nieur, Ã©crivain, fondateur de l'Ecole FranÃ§aise de GÃ©obio
 logie.\nLa GÃ©obiologie est l'Ã©tude de l'influence de la Terre sur le
  Vivant. Cette discipline d'avenir puise ses racines loin dans le pass
 Ã©.\nComment protÃ©ger sa santÃ© et Ã©viter des maladies qui peuvent Ã
 ªtre graves ? Quelles sont les clÃ©s du bien-Ãªtre ?\nQuelle est la pl
 ace de la GÃ©obiologie parmi les mÃ©thodes naturelles de santÃ© ?\nPos
 sibilitÃ© de conventions de formation mÃ©tiers d'avenir (entreprises, 
 PÃ´le Emploi, CIF, DIF...) - Remise diplÃ´me Ã  la fin des Stages de f
 ormation de Professorat.\nRenseignements et Inscription Ã  l'Associati
 on MÃ©lodie\n\n\nPour plus d'information, aller sur https://epanews.fr
 /events/stage-de-formation-en-g-obiologie-scientifique
DTSTART;TZID=Europe/Paris:20130427T100000
DTEND;TZID=Europe/Paris:20130428T180000
CATEGORIES:tous
LOCATION:Salle Louis Coste
WEBSITE:
URL:
CONTACT:04.68.31.10.80
ORGANIZER;CN="Association MÃ©lodie":https://epanews.fr/profile/Associa
 tionMelodie
ATTACH;FMTTYPE="image/jpeg":
ATTENDEE;ROLE=REQ-PARTICIPANT;PARTSTAT=ACCEPTED;RSVP=TRUE;CN="Associat
 ion MÃ©lodie":https://epanews.fr/profile/AssociationMelodie
END:VEVENT
END:VCALENDAR
