BEGIN:VCALENDAR
PRODID:NingEventWidget-v1
VERSION:2.0
METHOD:PUBLISH
BEGIN:VTIMEZONE
TZID:Europe/Paris
X-LIC-LOCATION:Europe/Paris
BEGIN:DAYLIGHT
TZOFFSETFROM:+0100
TZOFFSETTO:+0200
TZNAME:CEST
DTSTART:19700329T020000
RRULE:FREQ=YEARLY;BYMONTH=3;BYDAY=-1SU
END:DAYLIGHT
BEGIN:STANDARD
TZOFFSETFROM:+0200
TZOFFSETTO:+0100
TZNAME:CET
DTSTART:19701025T030000
RRULE:FREQ=YEARLY;BYMONTH=10;BYDAY=-1SU
END:STANDARD
END:VTIMEZONE
BEGIN:VEVENT
UID:2485226:Event:1804578
DTSTAMP:20260421T161230Z
SUMMARY:Stage de fabrication de Tambour
DESCRIPTION:\nAnimÃ© par Julien Fihey et Lydia Vasquez. Dans un lieu m
 agique en pleine Nature, venez apprendre Ã  fabriquer votre tambour.\n
 Tout un weekend pour se reconnecter Ã  Soi, Ã  l'arbre et Ã  l'animal 
 qui composent votre instrument. Ces deux jours seront merveilleux, un 
 vrai temps pour vous et pour vous offrir le compagnon qui vous accompa
 gnera lors de vos priÃ¨res, mÃ©ditations, soins, etc...  Places limitÃ
 ©es, merci de vous inscrire rapidement\n\n\n\n\n\nPour plus d'informat
 ion, aller sur https://epanews.fr/events/stage-de-fabrication-de-tambo
 ur
DTSTART;TZID=Europe/Paris:20140405T093000
DTEND;TZID=Europe/Paris:20140406T180000
CATEGORIES:35
LOCATION:Bretagne
WEBSITE:http://chacunsonrythme.jf.free.fr/chacun_son_rythme/Bienvenue.
 html
URL:http://chacunsonrythme.jf.free.fr/chacun_son_rythme/Bienvenue.html
CONTACT:09 83 39 16 64
ORGANIZER;CN="Free Moon":https://epanews.fr/profile/1ggai5tma2xpm
ATTACH;FMTTYPE="image/jpeg":http://storage.ning.com/topology/rest/1.0/
 file/get/1663073734?profile=original
ATTENDEE;ROLE=REQ-PARTICIPANT;PARTSTAT=ACCEPTED;RSVP=TRUE;CN="Free Moo
 n":https://epanews.fr/profile/1ggai5tma2xpm
END:VEVENT
END:VCALENDAR
