BEGIN:VCALENDAR
PRODID:NingEventWidget-v1
VERSION:2.0
METHOD:PUBLISH
BEGIN:VTIMEZONE
TZID:Europe/Paris
X-LIC-LOCATION:Europe/Paris
BEGIN:DAYLIGHT
TZOFFSETFROM:+0100
TZOFFSETTO:+0200
TZNAME:CEST
DTSTART:19700329T020000
RRULE:FREQ=YEARLY;BYMONTH=3;BYDAY=-1SU
END:DAYLIGHT
BEGIN:STANDARD
TZOFFSETFROM:+0200
TZOFFSETTO:+0100
TZNAME:CET
DTSTART:19701025T030000
RRULE:FREQ=YEARLY;BYMONTH=10;BYDAY=-1SU
END:STANDARD
END:VTIMEZONE
BEGIN:VEVENT
UID:2485226:Event:1408569
DTSTAMP:20260422T192104Z
SUMMARY:Stage de dévelopement personnel: Hymne à la joie
DESCRIPTION:Sophrologie, peinture, modelage argile sensoriel\nRetour a
 ux sources, reliez-vous à la terre « mère »\n\n\nPour plus d'inf
 ormation, aller sur https://epanews.fr/events/stage-de-d-velopement-pe
 rsonnel-hymne-la-joie
DTSTART;TZID=Europe/Paris:20130630T000000
DTEND;TZID=Europe/Paris:20130630T235900
CATEGORIES:83390
LOCATION:Cuers
WEBSITE:http://creaticouleur.com
URL:http://creaticouleur.com
CONTACT:0674296889
ORGANIZER;CN=DEMORE:https://epanews.fr/profile/DEMORE
ATTACH;FMTTYPE="image/jpeg":http://storage.ning.com/topology/rest/1.0/
 file/get/1662862711?profile=original
ATTENDEE;ROLE=REQ-PARTICIPANT;PARTSTAT=ACCEPTED;RSVP=TRUE;CN=DEMORE:ht
 tps://epanews.fr/profile/DEMORE
END:VEVENT
END:VCALENDAR
