BEGIN:VCALENDAR
PRODID:NingEventWidget-v1
VERSION:2.0
METHOD:PUBLISH
BEGIN:VTIMEZONE
TZID:Europe/Paris
X-LIC-LOCATION:Europe/Paris
BEGIN:DAYLIGHT
TZOFFSETFROM:+0100
TZOFFSETTO:+0200
TZNAME:CEST
DTSTART:19700329T020000
RRULE:FREQ=YEARLY;BYMONTH=3;BYDAY=-1SU
END:DAYLIGHT
BEGIN:STANDARD
TZOFFSETFROM:+0200
TZOFFSETTO:+0100
TZNAME:CET
DTSTART:19701025T030000
RRULE:FREQ=YEARLY;BYMONTH=10;BYDAY=-1SU
END:STANDARD
END:VTIMEZONE
BEGIN:VEVENT
UID:2485226:Event:2674276
DTSTAMP:20260421T113751Z
SUMMARY:Stage de Constellations de la Psyché \"La Fonction Paternelle
 \"
DESCRIPTION:Pour identifier les attaches inconscientes qui nous empêc
 hent de créer du renouveau dans nos vies, je vous propose de particip
 er au stage de CONSTELLATIONS DE LA PSYCHÉ sur le thème \"LA FONCTIO
 N PATERNELLE \" le dimanche 17 juillet 2016, animé par Farida ALIOUAN
 E.Plus d’infos : http://www.reveasoi.com/#!constellation-de-la-psyc
 he/c1lofRéservation : 06 62 72 9717 ou reveasoi@gmail.comPage Faceboo
 k : https://www.facebook.com/reveasoi/\n\nPour plus d'information, al
 ler sur https://epanews.fr/events/stage-de-constellations-de-la-psych-
 la-fonction-paternelle-2
DTSTART;TZID=Europe/Paris:20160717T000000
DTEND;TZID=Europe/Paris:20160717T235900
CATEGORIES:83
LOCATION:Toulon
WEBSITE:http://www.reveasoi.com/#!constellation-de-la-psyche/c1lof
URL:http://www.reveasoi.com/#!constellation-de-la-psyche/c1lof
CONTACT:06 62 72 97 17
ORGANIZER;CN="Farida ALIOUANE":https://epanews.fr/profile/Fida
ATTACH;FMTTYPE="image/jpeg":http://storage.ning.com/topology/rest/1.0/
 file/get/1663583940?profile=original
ATTENDEE;ROLE=REQ-PARTICIPANT;PARTSTAT=ACCEPTED;RSVP=TRUE;CN="Farida A
 LIOUANE":https://epanews.fr/profile/Fida
END:VEVENT
END:VCALENDAR
