BEGIN:VCALENDAR
PRODID:NingEventWidget-v1
VERSION:2.0
METHOD:PUBLISH
BEGIN:VTIMEZONE
TZID:Europe/Paris
X-LIC-LOCATION:Europe/Paris
BEGIN:DAYLIGHT
TZOFFSETFROM:+0100
TZOFFSETTO:+0200
TZNAME:CEST
DTSTART:19700329T020000
RRULE:FREQ=YEARLY;BYMONTH=3;BYDAY=-1SU
END:DAYLIGHT
BEGIN:STANDARD
TZOFFSETFROM:+0200
TZOFFSETTO:+0100
TZNAME:CET
DTSTART:19701025T030000
RRULE:FREQ=YEARLY;BYMONTH=10;BYDAY=-1SU
END:STANDARD
END:VTIMEZONE
BEGIN:VEVENT
UID:2485226:Event:3011116
DTSTAMP:20260423T194556Z
SUMMARY:Stage de chant. Voix et Ressourcement en forÃªt de BrocÃ©liand
 e
DESCRIPTION:A la rencontre de sa voix et de son Ã©nergie dans un lieu 
 mythique source dâ€™inspiration.\nLâ€™approche proposÃ©e\nSe reconnect
 er, retrouver son Ã©nergie, apprendre Ã  la garder, Ã  la retrouver, Ã
   la gÃ©rer\nSâ€™exprimer, chanter, libÃ©rer sa voix dans un esprit de
  crÃ©ativitÃ©\nPasser un bon moment en groupe, chanter ensemble, vivre
  le bonheur de la polyphonie, du chant spontanÃ©.\nSe ressourcer et dÃ
 ©ployer sa crÃ©ativitÃ© dans un lieu calme et inspirant.\nSe promener,
  respirer, dans un lieu mythique, dÃ©couvrir des lieux puissants sourc
 es dâ€™inspiration.\nVoix VivanteÂ  vous propose un moment privilÃ©giÃ
 © autour du chant, de la voix et de la reprise en main de votre Ã©nerg
 ie.\nNous aurons comme outils et comme guidesÂ :\n\nLe chemin de libÃ©
 ration de la voix\nLa pratique du chant et des expÃ©riences dâ€™expres
 sion vocale\nDes pratiques corporelles issues du Tao\n\nProgramme\nCha
 que jour, un temps de travail Ã©nergÃ©tique et corporel proposÃ© par S
 erge Blanchard. Il sâ€™agit de prendre soin de soi et se mettre en lie
 n avec lâ€™environnement, de faire circuler lâ€™Ã©nergie, apprendre Ã 
  la rÃ©cupÃ©rer et lâ€™entretenirÂ : Chi Gong des arbres, shiatsu, aut
 omassages taoÃ¯stesÂ .\nCette mise en bonne condition sera bÃ©nÃ©fique
  au travail du chant avec Dominique HeckmannÂ Nous pratiquerons chaque
  jour le chemin du dÃ©voilement de la voix, Ã  la rencontre concrÃ¨te 
 du son et des mondes quâ€™il nous fait dÃ©couvrir. Nous cheminerons en
 semble en direction de votre voix, de son dÃ©voilement, de votre capac
 itÃ© Ã  chanter avec plus de libertÃ© et de joie. Nous prendrons le te
 mps dâ€™apprivoiser tous les Ã©lÃ©ments qui constituent notre voix, dâ
 €™en expÃ©rimenter la rÃ©sonance, de nous relier grÃ¢ce Ã  nos voix.\n
 La matinÃ©e du vendredi 3 mai sera consacrÃ©e Ã  une balade contÃ©e da
 ns la forÃªt de BrocÃ©liande avec Marie Tanneux, conteuse. Marie nous 
 introduira aux mystÃ¨res de cette forÃªt mythique.\nNous nous rÃ©uniro
 ns dans le GÃ®te de la Hulotte, Ã  la lisiÃ¨re de la partie domaniale 
 de la forÃªt de BrocÃ©liande.\nHÃ©bergement\nNous vous proposons un st
 age rÃ©sidentiel, en pension complÃ¨te\nLe gÃ®te de la Hulotte compren
 d 8 chambres de 2 ou 3 lits, avec salle dâ€™eau attenante pour la plup
 art des chambres. Une chambre est adaptÃ©e aux personnes handicapÃ©es.
  Il est possible, dans la mesure des disponibilitÃ©s, dâ€™avoir une ch
 ambre seul, moyennant un supplÃ©ment.\nLa nourriture est naturelle, bi
 ologique, vÃ©gÃ©tale, inventive et soignÃ©e. Elle contribuera Ã  notre
  Ã©nergie, au plaisir, Ã  la convivialitÃ© du stage.\nÂ Tarif : Frais 
 pÃ©dagogiques : 390 â‚¬\nHÃ©bergement en pension complÃ¨te : 262,50â‚¬
  en chambre double. SupplÃ©ment chambre individuelle : + 48â‚¬ pour le
  sÃ©jour.\nAu total 34 heures de stage.\nÂ \nAnimateurs\nDominique HEC
 KMANN, psycho-pÃ©dagogue de la voix et musicothÃ©rapeute, pour lâ€™asp
 ect vocal\nSerge BLANCHARD, ThÃ©rapeute TaoÃ¯ste\nConditions\nCe stage
  est ouvert Ã  tous. Aucune compÃ©tence musicale nâ€™est requise.\nRen
 seignements et inscriptions\nhttps://www.voixvivante.fr/stage-en-foret
 -de-broceliande/\nDominique HECKMANNÂ : Â  +33 6 75 36 24 98\n\nPour p
 lus d'information, aller sur https://epanews.fr/events/stage-de-chant-
 voix-et-ressourcement-en-for-t-de-broc-liande
DTSTART;TZID=Europe/Paris:20190501T000000
DTEND;TZID=Europe/Paris:20190505T235900
CATEGORIES:35
LOCATION:GÃ®te de la Hulotte
WEBSITE:https://la-hulotte.fr/
URL:https://la-hulotte.fr/
CONTACT:
ORGANIZER;CN="Dominique HECKMANN":https://epanews.fr/profile/Dominique
 HECKMANN
ATTACH;FMTTYPE="image/jpeg":https://storage.ning.com/topology/rest/1.0
 /file/get/959150338?profile=original
ATTENDEE;ROLE=REQ-PARTICIPANT;PARTSTAT=ACCEPTED;RSVP=TRUE;CN="Dominiqu
 e HECKMANN":https://epanews.fr/profile/DominiqueHECKMANN
END:VEVENT
END:VCALENDAR
