BEGIN:VCALENDAR
PRODID:NingEventWidget-v1
VERSION:2.0
METHOD:PUBLISH
BEGIN:VTIMEZONE
TZID:Europe/Paris
X-LIC-LOCATION:Europe/Paris
BEGIN:DAYLIGHT
TZOFFSETFROM:+0100
TZOFFSETTO:+0200
TZNAME:CEST
DTSTART:19700329T020000
RRULE:FREQ=YEARLY;BYMONTH=3;BYDAY=-1SU
END:DAYLIGHT
BEGIN:STANDARD
TZOFFSETFROM:+0200
TZOFFSETTO:+0100
TZNAME:CET
DTSTART:19701025T030000
RRULE:FREQ=YEARLY;BYMONTH=10;BYDAY=-1SU
END:STANDARD
END:VTIMEZONE
BEGIN:VEVENT
UID:2485226:Event:889651
DTSTAMP:20260422T075659Z
SUMMARY:Stage de chant (6 heures de yoga du son, chant dévotionnel, c
 hant classique indien)
DESCRIPTION:Un dimanche de chant le 29 juillet 2012 de 10h à 17h avec
  ANANDA  Du son au silence... aller à la découverte de la spiritual
 ité en musique indienne... Ressentir le mental s'apaiser par le chant
 ...Stage de 6 heures de chant réparties dans la journée ...- réédu
 cation respiratoire- échauffement vocalet explorant ensuite des techn
 iques de yoga du son et mantras - le chant dévotionnel et le chant cl
 assique indien (hindustani - Inde du Nord) avec notes indiennes et int
 roduction aux ragas (mélodies indiennes) et rythme (taal)  apportez l
 e nécessaire pour prendre des notes, tenue comfortable, bouteille d'e
 au - supports étude fournis par le centre  Nous marquerons la pause d
 éjeuner dans le quartier indien au restaurant végétarien Krishna Bh
 avan.   Participation au stage : 85 € Adresse : 66 RUE MARX DORMOY 7
 5018 PARIS - dès votre inscription vous recevrez le code de la porte 
  Contact : swarinternational@gmail.com :: Tel - Uma : 06 72 00 89 13 -
  Ananda - 06 12 79 54 18 Blog d'Ananda : http://ananda-france.webs.com
 \n\nPour plus d'information, aller sur https://epanews.fr/events/stage
 -de-chant-6-heures-de-yoga-du-son-chant-d-votionnel-chant
DTSTART;TZID=Europe/Paris:20120729T100000
DTEND;TZID=Europe/Paris:20120729T170000
CATEGORIES:75
LOCATION:PARIS 18
WEBSITE:
URL:
CONTACT:0612795418
ORGANIZER;CN="Ananda - Chant & Yoga du son":https://epanews.fr/profile
 /SwarInternational
ATTACH;FMTTYPE="image/jpeg":http://storage.ning.com/topology/rest/1.0/
 file/get/1662635720?profile=original
ATTENDEE;ROLE=REQ-PARTICIPANT;PARTSTAT=ACCEPTED;RSVP=TRUE;CN="Ananda -
  Chant & Yoga du son":https://epanews.fr/profile/SwarInternational
END:VEVENT
END:VCALENDAR
