BEGIN:VCALENDAR
PRODID:NingEventWidget-v1
VERSION:2.0
METHOD:PUBLISH
BEGIN:VTIMEZONE
TZID:Europe/Paris
X-LIC-LOCATION:Europe/Paris
BEGIN:DAYLIGHT
TZOFFSETFROM:+0100
TZOFFSETTO:+0200
TZNAME:CEST
DTSTART:19700329T020000
RRULE:FREQ=YEARLY;BYMONTH=3;BYDAY=-1SU
END:DAYLIGHT
BEGIN:STANDARD
TZOFFSETFROM:+0200
TZOFFSETTO:+0100
TZNAME:CET
DTSTART:19701025T030000
RRULE:FREQ=YEARLY;BYMONTH=10;BYDAY=-1SU
END:STANDARD
END:VTIMEZONE
BEGIN:VEVENT
UID:2485226:Event:3040594
DTSTAMP:20260420T135633Z
SUMMARY:stage de chamanisme celte
DESCRIPTION:Ce stage s'adresse aussi bien aux débutants qu'aux person
 nes pratiquant le chamanisme depuis longtemps, pour un développement 
 personnel et spirituel et pour ceux qui le souhaitent pour un commence
 ment d'initiation.\nLe vendredi soir : ancrage, appel des directions a
 u tambour, cérémonie de reliance et de guérison.\nSamedi: ancrage, 
 méditation active, voyage chamanique et autres pratiques. Une approch
 e du soin chamanique sera faite.\nDimanche: ancrage, méditation activ
 e, voyage-soin.\nUn hébergement sur place est possible(apporter draps
  ou duvet) , les repas seront partagés avec ce que chacun apporte ( r
 epas végétariens, pas d'alcool, pas de sucre (sauf au repas du diman
 che midi), peu de sel et de caféine).\n\nPour plus d'information, all
 er sur https://epanews.fr/events/stage-de-chamanisme-celte
DTSTART;TZID=Europe/Paris:20190927T210000
DTEND;TZID=Europe/Paris:20190929T130000
CATEGORIES:77
LOCATION:Thiercelieux
WEBSITE:http://https// chantalbouthier.com
URL:http://https// chantalbouthier.com
CONTACT:01 64 20 95 78 - 06 72 15 87 19
ORGANIZER;CN=keltia:https://epanews.fr/profile/keltia
ATTACH;FMTTYPE="image/jpeg":
ATTENDEE;ROLE=REQ-PARTICIPANT;PARTSTAT=ACCEPTED;RSVP=TRUE;CN=keltia:ht
 tps://epanews.fr/profile/keltia
END:VEVENT
END:VCALENDAR
