BEGIN:VCALENDAR
PRODID:NingEventWidget-v1
VERSION:2.0
METHOD:PUBLISH
BEGIN:VTIMEZONE
TZID:Europe/Paris
X-LIC-LOCATION:Europe/Paris
BEGIN:DAYLIGHT
TZOFFSETFROM:+0100
TZOFFSETTO:+0200
TZNAME:CEST
DTSTART:19700329T020000
RRULE:FREQ=YEARLY;BYMONTH=3;BYDAY=-1SU
END:DAYLIGHT
BEGIN:STANDARD
TZOFFSETFROM:+0200
TZOFFSETTO:+0100
TZNAME:CET
DTSTART:19701025T030000
RRULE:FREQ=YEARLY;BYMONTH=10;BYDAY=-1SU
END:STANDARD
END:VTIMEZONE
BEGIN:VEVENT
UID:2485226:Event:1749313
DTSTAMP:20260421T065323Z
SUMMARY:Stage de Biodanza: Les forces créatrices du feu
DESCRIPTION:Le feu est un élément qui évoque l'énergie et le dynam
 isme.\nIl permet l’ouverture et la création de son propre espace vi
 tal.\nIl porte en lui la possibilité de naître, s’enflammer, se co
 nsumer dans la force et la puissance, mais aussi dans la chaleur et la
  sensualité.\nLe feu nous enseigne un chemin qui va de la déterminat
 ion au lâcher prise, ce dernier étant nécessaire pour laisser ce qu
 i nous retient, ce qui nous enferme, et nous ouvrir à tous les possib
 les pour être intensément soi dans l’instant.\nCe stage nous invit
 e à réveiller la flamme de vie qui nous anime, à dissoudre les bloc
 ages qui nous empêchent d’exprimer toutes les facettes de notre feu
  et à oser vivre passionnément et entièrement qui nous sommes aujou
 rd’hui pour être créateur de notre vie.\n\nPour plus d'information
 , aller sur https://epanews.fr/events/stage-de-biodanza-les-forces-cr-
 atrices-du-feu
DTSTART;TZID=Europe/Paris:20140206T200000
DTEND;TZID=Europe/Paris:20140208T170000
CATEGORIES:01
LOCATION:Chalet le Jurat
WEBSITE:http://www.biodanza-paula.org/feu.htm
URL:http://www.biodanza-paula.org/feu.htm
CONTACT:0616861480
ORGANIZER;CN="Paula Roulin Prat":https://epanews.fr/profile/PaulaRouli
 nPrat
ATTACH;FMTTYPE="image/jpeg":http://storage.ning.com/topology/rest/1.0/
 file/get/1663037317?profile=original
ATTENDEE;ROLE=REQ-PARTICIPANT;PARTSTAT=ACCEPTED;RSVP=TRUE;CN="Paula Ro
 ulin Prat":https://epanews.fr/profile/PaulaRoulinPrat
END:VEVENT
END:VCALENDAR
