BEGIN:VCALENDAR
PRODID:NingEventWidget-v1
VERSION:2.0
METHOD:PUBLISH
BEGIN:VTIMEZONE
TZID:Europe/Paris
X-LIC-LOCATION:Europe/Paris
BEGIN:DAYLIGHT
TZOFFSETFROM:+0100
TZOFFSETTO:+0200
TZNAME:CEST
DTSTART:19700329T020000
RRULE:FREQ=YEARLY;BYMONTH=3;BYDAY=-1SU
END:DAYLIGHT
BEGIN:STANDARD
TZOFFSETFROM:+0200
TZOFFSETTO:+0100
TZNAME:CET
DTSTART:19701025T030000
RRULE:FREQ=YEARLY;BYMONTH=10;BYDAY=-1SU
END:STANDARD
END:VTIMEZONE
BEGIN:VEVENT
UID:2485226:Event:51557
DTSTAMP:20260420T150036Z
SUMMARY:Stage de BIODANZA et de créativité avec la terre
DESCRIPTION:DE L'HARMONISATION\nDU MASCULIN ET DU FÉMININ\nBiodanza a
 vec Magali Egalon\nà\nLA CRÉATION D'UN LINGAM\npar la Sculpture en T
 erre avec Michel De Mayer\n\nLES 14 – 15 – 16 Mai 2010\n\nSTAGE à
  Mormoiron dans le Vaucluse\n\nRenseignements association \" Coeurs d
 e Poetes \" 06 17 97 43 49 couriel coeursdepoetes@gmail.com\n\nVenez 
 partager une expérience originale à travers deux disciplines\n\n\n\n
 \nLA BIODANZA®\n\nNous invite à nous connecter et à danser nos forc
 es intimes :\nl'intuition sensible du YIN stimulant l'inspiration cré
 atrice et\nl'intensité du YANG nécessaire pour incarner le projet cr
 éateur.\n\net\n\nLA CREATION\nD'UN LINGAM\nEN TERRE\n\n\n\nle SHIVA-L
 INGAM est composé d'une YONI,\nle \" Lieu \", ce qui reçoit, le fém
 inin\net\ndu LINGAM, représentation du pouvoir créatif masculin.\nL'
 union des deux représentant, le symbole de la création et de la féc
 ondité de la vie.\n\nPour plus d'information, aller sur https://epane
 ws.fr/events/stage-de-biodanza-et-de
DTSTART;TZID=Europe/Paris:20100514T220000
DTEND;TZID=Europe/Paris:20100516T173000
CATEGORIES:84
LOCATION:a Mormoiron
WEBSITE:
URL:
CONTACT:Renseignements association \" Coeurs de Poetes \" couriel  coe
 ursdepoetes@gmail.com    06 17 97 43 49
ORGANIZER;CN="Michel De Mayer":https://epanews.fr/profile/MichelDeMaye
 r
ATTACH;FMTTYPE="image/jpeg":http://storage.ning.com/topology/rest/1.0/
 file/get/1662296569?profile=original
ATTENDEE;ROLE=REQ-PARTICIPANT;PARTSTAT=ACCEPTED;RSVP=TRUE;CN="Michel D
 e Mayer":https://epanews.fr/profile/MichelDeMayer
END:VEVENT
END:VCALENDAR
