BEGIN:VCALENDAR
PRODID:NingEventWidget-v1
VERSION:2.0
METHOD:PUBLISH
BEGIN:VTIMEZONE
TZID:Europe/Paris
X-LIC-LOCATION:Europe/Paris
BEGIN:DAYLIGHT
TZOFFSETFROM:+0100
TZOFFSETTO:+0200
TZNAME:CEST
DTSTART:19700329T020000
RRULE:FREQ=YEARLY;BYMONTH=3;BYDAY=-1SU
END:DAYLIGHT
BEGIN:STANDARD
TZOFFSETFROM:+0200
TZOFFSETTO:+0100
TZNAME:CET
DTSTART:19701025T030000
RRULE:FREQ=YEARLY;BYMONTH=10;BYDAY=-1SU
END:STANDARD
END:VTIMEZONE
BEGIN:VEVENT
UID:2485226:Event:2960742
DTSTAMP:20260420T103859Z
SUMMARY:Stage de Biodanza et Arc-en-ciel
DESCRIPTION:Bienvenue pour ce stage ouvert à tous ! Cliquez ici pour 
 vous inscrire en ligne !\n\n\nPour plus d'information, aller sur https
 ://epanews.fr/events/stage-de-biodanza-et-arc-en-ciel-1
DTSTART;TZID=Europe/Paris:20180706T200000
DTEND;TZID=Europe/Paris:20180708T180000
CATEGORIES:09, 31, 11
LOCATION:Ariège, St Girons
WEBSITE:
URL:
CONTACT:0645537238
ORGANIZER:
ATTACH;FMTTYPE="image/jpeg":http://storage.ning.com/topology/rest/1.0/
 file/get/1663744122?profile=original
ATTENDEE;ROLE=REQ-PARTICIPANT;PARTSTAT=ACCEPTED;RSVP=TRUE;CN=Amaryllis
 :https://epanews.fr/profile/Amaryllis
END:VEVENT
END:VCALENDAR
