BEGIN:VCALENDAR
PRODID:NingEventWidget-v1
VERSION:2.0
METHOD:PUBLISH
BEGIN:VTIMEZONE
TZID:Europe/Paris
X-LIC-LOCATION:Europe/Paris
BEGIN:DAYLIGHT
TZOFFSETFROM:+0100
TZOFFSETTO:+0200
TZNAME:CEST
DTSTART:19700329T020000
RRULE:FREQ=YEARLY;BYMONTH=3;BYDAY=-1SU
END:DAYLIGHT
BEGIN:STANDARD
TZOFFSETFROM:+0200
TZOFFSETTO:+0100
TZNAME:CET
DTSTART:19701025T030000
RRULE:FREQ=YEARLY;BYMONTH=10;BYDAY=-1SU
END:STANDARD
END:VTIMEZONE
BEGIN:VEVENT
UID:2485226:Event:482819
DTSTAMP:20260423T131732Z
SUMMARY:stage de Biodanza 
DESCRIPTION:Atelier du dimanche Ã  Montpellier\n30 Octobre\nAnimÃ© par
  GisÃ¨le BrÃ©gliano MartinezÂ \nfacilitatrice titulaire, didacte, ense
 ignante\n\nÂ Le Geste Germe de CrÃ©ationÂ Â \n\nPour le repas du midi,
  nous partageons dans la convivialitÃ© du groupe ce que chacun aura ap
 portÃ©.\nÂ \nTarifsÂ : 60â‚¬ - 50â‚¬ ElÃ¨ves en formation et Participa
 nts REGULIERS Ã  lâ€™hebdomadaire de Montpellier.\nRenseignements et i
 nscriptionsÂ  06 78 49 22 86\nÂ \nConfirmations d'inscriptions par lâ€
 ™envoi dâ€™un chÃ¨que dâ€™arrhes de 30â‚¬ Ã  l'ordre dâ€™Acordanza, ch
 ezÂ : Patricia Henocque, 61 route de Mende - 34730 Prades Le Lez, au p
 lus tard 1 semaine avant chaque date\nÂ \n\nPour plus d'information, a
 ller sur https://epanews.fr/events/stage-de-biodanza-2
DTSTART;TZID=Europe/Paris:20111030T000000
DTEND;TZID=Europe/Paris:20111030T235900
CATEGORIES:34
LOCATION:Monpellier
WEBSITE:
URL:
CONTACT:0678492286 
ORGANIZER;CN="patricia henocque":https://epanews.fr/profile/patriciahe
 nocque
ATTACH;FMTTYPE="image/jpeg":
ATTENDEE;ROLE=REQ-PARTICIPANT;PARTSTAT=ACCEPTED;RSVP=TRUE;CN="patricia
  henocque":https://epanews.fr/profile/patriciahenocque
END:VEVENT
END:VCALENDAR
