BEGIN:VCALENDAR
PRODID:NingEventWidget-v1
VERSION:2.0
METHOD:PUBLISH
BEGIN:VTIMEZONE
TZID:Europe/Paris
X-LIC-LOCATION:Europe/Paris
BEGIN:DAYLIGHT
TZOFFSETFROM:+0100
TZOFFSETTO:+0200
TZNAME:CEST
DTSTART:19700329T020000
RRULE:FREQ=YEARLY;BYMONTH=3;BYDAY=-1SU
END:DAYLIGHT
BEGIN:STANDARD
TZOFFSETFROM:+0200
TZOFFSETTO:+0100
TZNAME:CET
DTSTART:19701025T030000
RRULE:FREQ=YEARLY;BYMONTH=10;BYDAY=-1SU
END:STANDARD
END:VTIMEZONE
BEGIN:VEVENT
UID:2485226:Event:2593200
DTSTAMP:20260421T134657Z
SUMMARY:stage de biodanza 16-17/04/2016 Helene Jeanne Levy Benseft
DESCRIPTION:Chers ami(e)s biodanseurs,Je viens vers vous en ce dÃ©but 
 d'annÃ©e pour vous faire une bien belle proposition: un stage inÃ©dit 
 sur la GRATITUDE donnÃ© par cette grande dame de la Biodanza qu'est HÃ
 ©lÃ¨ne.Danser avec HÃ©lÃ¨ne est toujours un moment de grÃ¢ce, une pare
 nthÃ¨se inoubliable dans nos vies, tant ses gestes sont ajustÃ©s Ã  se
 s mots et ses mots Ã  ce qu'elle nous donne d'elle.Une Biodanza puissa
 nte qui s'inscrit dans nos chairs pour longtemps.Je vous souhaite une 
 belle annÃ©e 2016, au plus prÃ¨s de vos Ã©lans, de vos envies, de la v
 ie qui vous entoure et de tous ceux qui vous sont chers.Doux abrazops:
  vous trouverez Ã©galement toutes les infos sur le sitebiodanzamontpel
 lier.com\n\nPour plus d'information, aller sur https://epanews.fr/even
 ts/stage-de-biodanza-16-17-04-2016-helene-jeanne-levy-benseft
DTSTART;TZID=Europe/Paris:20160416T090000
DTEND;TZID=Europe/Paris:20160417T170000
CATEGORIES:34
LOCATION:Hameau de L'etoile
WEBSITE:http://contact@hameaudeletoile.com
URL:http://contact@hameaudeletoile.com
CONTACT:06.78.49.22.86.
ORGANIZER:Patricia Henocque
ATTACH;FMTTYPE="image/jpeg":http://storage.ning.com/topology/rest/1.0/
 file/get/1663535480?profile=original
ATTENDEE;ROLE=REQ-PARTICIPANT;PARTSTAT=ACCEPTED;RSVP=TRUE;CN="Aurlei K
 ar":https://epanews.fr/profile/AurleiKar
END:VEVENT
END:VCALENDAR
