BEGIN:VCALENDAR
PRODID:NingEventWidget-v1
VERSION:2.0
METHOD:PUBLISH
BEGIN:VTIMEZONE
TZID:Europe/Paris
X-LIC-LOCATION:Europe/Paris
BEGIN:DAYLIGHT
TZOFFSETFROM:+0100
TZOFFSETTO:+0200
TZNAME:CEST
DTSTART:19700329T020000
RRULE:FREQ=YEARLY;BYMONTH=3;BYDAY=-1SU
END:DAYLIGHT
BEGIN:STANDARD
TZOFFSETFROM:+0200
TZOFFSETTO:+0100
TZNAME:CET
DTSTART:19701025T030000
RRULE:FREQ=YEARLY;BYMONTH=10;BYDAY=-1SU
END:STANDARD
END:VTIMEZONE
BEGIN:VEVENT
UID:2485226:Event:764275
DTSTAMP:20260422T094455Z
SUMMARY:Stage de 2 jours \"Puissance symbolique du son et langue des o
 iseaux\" avec J.Guerry Ã  Cassis les 12 et 13 Mai 2012
DESCRIPTION:Stage de 2 jours le week-end des 12 et 13 Mai 2012  \"Puis
 sance symbolique du son et langue des oiseaux\" avec JÃ©rÃ©mie Guerry\
 nVilla Montvert, traverse du chÃ¢teau, Cassis Participation : 165â‚¬ A
 pporter un repas Ã  partager Ã  midi. RÃ©servation : Isabelle - 06 64 
 41 57 79\nPrÃ©voir d'envoyer son (ses) prÃ©nom(s), son nom (Ã©ventuell
 ement celui de jeune fille pour les femmes mariÃ©es) et sa date de nai
 ssance Ã  l'adresse suivante:  JÃ©rÃ©mie Guerry, 9 chemin des Ã©colier
 s, 04180 Villeneuve.  \"Recouvrant un ensemble de procÃ©dÃ©s permettan
 t d'entendre diffÃ©remment les sons, les mots et les expressions afin 
 d'en faire Ã©merger le sens secret, la Langue des Oiseaux constitue, c
 omme l'alchimie, un chemin initiatique qui permet de permuter les form
 es pour trouver la LumiÃ¨re. AppliquÃ©e aux prÃ©noms, aux noms de fami
 lle ou aux pathologies, elle peut nous aider Ã  dÃ©couvrir notre chemi
 n de vie, Ã  dÃ©coder le sens de nos problÃ¨mes de santÃ© ou encore, Ã
   entrer dans la signification Ã©sotÃ©rique, symbolique et Ã©nergÃ©tiq
 ue des lettres de notre alphabet.\"  JÃ©rÃ©mie Guerry  ThÃ©rapeute for
 mateur, initiÃ© au symbolisme et Ã  lâ€™Ã©sotÃ©risme occidental. DÃ©co
 uvrir la force vibratoire du son et apprendre Ã  utiliser cette langue
  de lâ€™esprit qui Ã©tait lâ€™apanage des alchimistes et des bÃ¢tisseu
 rs de cathÃ©drales.\n\nPour plus d'information, aller sur https://epan
 ews.fr/events/stage-de-2-jours-puissance-symbolique-du-son-et-langue-d
 es
DTSTART;TZID=Europe/Paris:20120512T100000
DTEND;TZID=Europe/Paris:20120513T170000
CATEGORIES:tous
LOCATION:Cassis
WEBSITE:http://associationlesnouveauxmondes.com/
URL:http://associationlesnouveauxmondes.com/
CONTACT:06 64 41 57 79
ORGANIZER;CN="Association Les Nouveaux Mondes":https://epanews.fr/prof
 ile/AssociationLesNouveauxMondes
ATTACH;FMTTYPE="image/jpeg":http://storage.ning.com/topology/rest/1.0/
 file/get/1662591934?profile=original
ATTENDEE;ROLE=REQ-PARTICIPANT;PARTSTAT=ACCEPTED;RSVP=TRUE;CN="Associat
 ion Les Nouveaux Mondes":https://epanews.fr/profile/AssociationLesNouv
 eauxMondes
ATTENDEE;ROLE=REQ-PARTICIPANT;PARTSTAT=TENTATIVE;RSVP=TRUE;CN=caronatu
 ro:https://epanews.fr/profile/caronaturo
END:VEVENT
END:VCALENDAR
