BEGIN:VCALENDAR
PRODID:NingEventWidget-v1
VERSION:2.0
METHOD:PUBLISH
BEGIN:VTIMEZONE
TZID:Europe/Paris
X-LIC-LOCATION:Europe/Paris
BEGIN:DAYLIGHT
TZOFFSETFROM:+0100
TZOFFSETTO:+0200
TZNAME:CEST
DTSTART:19700329T020000
RRULE:FREQ=YEARLY;BYMONTH=3;BYDAY=-1SU
END:DAYLIGHT
BEGIN:STANDARD
TZOFFSETFROM:+0200
TZOFFSETTO:+0100
TZNAME:CET
DTSTART:19701025T030000
RRULE:FREQ=YEARLY;BYMONTH=10;BYDAY=-1SU
END:STANDARD
END:VTIMEZONE
BEGIN:VEVENT
UID:2485226:Event:1878428
DTSTAMP:20260421T202105Z
SUMMARY:Stage de 2 jours : \"Calibrage Quantique\"
DESCRIPTION:Directement en provenance du QuÃ©bec pour venir nous l'off
 rir Ã  Aix-en-provence :Â  ou \"Comment CHANGER SA REALITE grÃ¢ce au C
 alibrage Quantique\"\nâ–· MÃ©thode issue de la rencontre de la Physiqu
 e Quantique, de la Biologie et des Traditions Ancestrales ;\nâ–· BasÃ©
 e sur 3 clÃ©s :Â la ComprÃ©hension du RÃ©el, lâ€™UnitÃ© du Vivant et l
 a PrÃ©sence Totale ;\nâ–· Il s'agit d'une approche de Transformation e
 t de CrÃ©ation pour redÃ©finir toutes les sphÃ¨res de notre vie : Sant
 Ã©, Relations, Objectifs personnels/professionnels, Projets, RÃªves...
 \nSi vous avez tout fait et que mÃªme l'EnergÃ©tique ne suffit plus...
  Voici la Physique Quantique : basÃ©e sur une transmission d'informati
 on ; c'est efficace et immÃ©diat.\n\nCeÂ Stage de 2 jours,Â prÃ¨s d'Ai
 x, se dÃ©roule en partieÂ dans la Nature et dans une superbe Bastide Ã
   Cabries (13480)Â pour approfondir et Ãªtre en mesure d'utiliser cett
 e mÃ©thode sur Soi et nos Proches... PRIX = 320â‚¬ (PROMO - 20â‚¬, si 
 vous assistez Ã  la ConfÃ©rence et au Stage)\nUne ConfÃ©renceÂ de prÃ©
 sentation est prÃ©vue le Mercredi 14/05Â :Venez dÃ©couvrir Benoit Paqu
 ette et servir de \"DÃ©monstrateur volontaire\"Â (Prix 15 â‚¬)\nDes sÃ
 ©ances individuelles seront Ã©galement proposÃ©es (voir inscription su
 r son site Internet)\n\nConsulter le site Internet :Â http://www.alter
 -quebec.net/\n\nPour plus d'information, aller sur https://epanews.fr/
 events/stage-de-2-jours-calibrage-quantique
DTSTART;TZID=Europe/Paris:20140517T093000
DTEND;TZID=Europe/Paris:20140518T173000
CATEGORIES:13
LOCATION:La Bastide blanche
WEBSITE:https://www.google.com/maps/place/Chemin+de+la+Tour/@43.452832
 2,5.3836246,17z/data=!3m1!4b1!4m2!3m1!1s0x12c9ecb81dc07421:0xad6f76cda
 3b30e54
URL:https://www.google.com/maps/place/Chemin+de+la+Tour/@43.4528322,5.
 3836246,17z/data=!3m1!4b1!4m2!3m1!1s0x12c9ecb81dc07421:0xad6f76cda3b30
 e54
CONTACT:06 31 83 80 58
ORGANIZER:ValÃ©rie Allemand
ATTACH;FMTTYPE="image/jpeg":http://storage.ning.com/topology/rest/1.0/
 file/get/1663114904?profile=original
ATTENDEE;ROLE=REQ-PARTICIPANT;PARTSTAT=ACCEPTED;RSVP=TRUE;CN=Valiall:h
 ttps://epanews.fr/profile/Valiall
END:VEVENT
END:VCALENDAR
