BEGIN:VCALENDAR
PRODID:NingEventWidget-v1
VERSION:2.0
METHOD:PUBLISH
BEGIN:VTIMEZONE
TZID:Europe/Paris
X-LIC-LOCATION:Europe/Paris
BEGIN:DAYLIGHT
TZOFFSETFROM:+0100
TZOFFSETTO:+0200
TZNAME:CEST
DTSTART:19700329T020000
RRULE:FREQ=YEARLY;BYMONTH=3;BYDAY=-1SU
END:DAYLIGHT
BEGIN:STANDARD
TZOFFSETFROM:+0200
TZOFFSETTO:+0100
TZNAME:CET
DTSTART:19701025T030000
RRULE:FREQ=YEARLY;BYMONTH=10;BYDAY=-1SU
END:STANDARD
END:VTIMEZONE
BEGIN:VEVENT
UID:2485226:Event:2614288
DTSTAMP:20260422T020329Z
SUMMARY:Stage danses & méditations chamaniques
DESCRIPTION:\n\nPour plus d'information, aller sur https://epanews.fr/
 events/stage-danses-m-ditations-chamaniques
DTSTART;TZID=Europe/Paris:20160521T090000
DTEND;TZID=Europe/Paris:20160522T190000
CATEGORIES:69910
LOCATION:Villié-Morgon (69)
WEBSITE:
URL:
CONTACT:
ORGANIZER;CN="SANDRINE GUIGNIER":https://epanews.fr/profile/SANDRINEGU
 IGNIER
ATTACH;FMTTYPE="image/jpeg":http://storage.ning.com/topology/rest/1.0/
 file/get/1663548536?profile=original
ATTENDEE;ROLE=REQ-PARTICIPANT;PARTSTAT=ACCEPTED;RSVP=TRUE;CN="SANDRINE
  GUIGNIER":https://epanews.fr/profile/SANDRINEGUIGNIER
END:VEVENT
END:VCALENDAR
