BEGIN:VCALENDAR
PRODID:NingEventWidget-v1
VERSION:2.0
METHOD:PUBLISH
BEGIN:VTIMEZONE
TZID:Europe/Paris
X-LIC-LOCATION:Europe/Paris
BEGIN:DAYLIGHT
TZOFFSETFROM:+0100
TZOFFSETTO:+0200
TZNAME:CEST
DTSTART:19700329T020000
RRULE:FREQ=YEARLY;BYMONTH=3;BYDAY=-1SU
END:DAYLIGHT
BEGIN:STANDARD
TZOFFSETFROM:+0200
TZOFFSETTO:+0100
TZNAME:CET
DTSTART:19701025T030000
RRULE:FREQ=YEARLY;BYMONTH=10;BYDAY=-1SU
END:STANDARD
END:VTIMEZONE
BEGIN:VEVENT
UID:2485226:Event:2867730
DTSTAMP:20260422T012458Z
SUMMARY:stage danse voyage alchimique des 9 souffles
DESCRIPTION:Par la danse libre, l'écoute poétique du corps et la mé
 ditation, nous dialoguons avec l'intelligence du corps. cette rencontr
 e bienveillante et accueillante de ce qui est là transforme notre int
 ériorité dans un processus alchimique.\nPlus d'informations sur les 
 9 souffles: video des 9 souffles\nPlus d'info sur le stage: https://le
 sneufsouffles.fr/agenda/nimes-stage-de-2-jours-la-folie-divine/\n\n\n\
 nPour plus d'information, aller sur https://epanews.fr/events/stage-da
 nse-voyage-alchimique-des-9-souffles
DTSTART;TZID=Europe/Paris:20171007T100000
DTEND;TZID=Europe/Paris:20171008T170000
CATEGORIES:30
LOCATION:Uzès
WEBSITE:
URL:
CONTACT:06 51 11 69 00
ORGANIZER;CN=Mûre:https://epanews.fr/profile/Mure
ATTACH;FMTTYPE="image/jpeg":
ATTENDEE;ROLE=REQ-PARTICIPANT;PARTSTAT=ACCEPTED;RSVP=TRUE;CN=Mûre:htt
 ps://epanews.fr/profile/Mure
END:VEVENT
END:VCALENDAR
