BEGIN:VCALENDAR
PRODID:NingEventWidget-v1
VERSION:2.0
METHOD:PUBLISH
BEGIN:VTIMEZONE
TZID:Europe/Paris
X-LIC-LOCATION:Europe/Paris
BEGIN:DAYLIGHT
TZOFFSETFROM:+0100
TZOFFSETTO:+0200
TZNAME:CEST
DTSTART:19700329T020000
RRULE:FREQ=YEARLY;BYMONTH=3;BYDAY=-1SU
END:DAYLIGHT
BEGIN:STANDARD
TZOFFSETFROM:+0200
TZOFFSETTO:+0100
TZNAME:CET
DTSTART:19701025T030000
RRULE:FREQ=YEARLY;BYMONTH=10;BYDAY=-1SU
END:STANDARD
END:VTIMEZONE
BEGIN:VEVENT
UID:2485226:Event:1782394
DTSTAMP:20260421T135013Z
SUMMARY:stage danse thérapie
DESCRIPTION:La danse des neuf souffles nous met en lien direct avec l'
 intelligence de notre corps et nous invite à danser avec et pour elle
 , pour retrouver la Joie d'être Humain sur terre, en lien avec le cos
 mos, avec nos forces et nos fragilités.\nPas d'expérience requise\n\
 nPour plus d'information, aller sur https://epanews.fr/events/stage-da
 nse-th-rapie
DTSTART;TZID=Europe/Paris:20140329T180000
DTEND;TZID=Europe/Paris:20140329T220000
CATEGORIES:69
LOCATION:lyon
WEBSITE:http://www.caravanedesneuf.fr
URL:http://www.caravanedesneuf.fr
CONTACT:0626971518
ORGANIZER;CN=luciole:https://epanews.fr/profile/luciole81
ATTACH;FMTTYPE="image/jpeg":
ATTENDEE;ROLE=REQ-PARTICIPANT;PARTSTAT=ACCEPTED;RSVP=TRUE;CN=luciole:h
 ttps://epanews.fr/profile/luciole81
END:VEVENT
END:VCALENDAR
