BEGIN:VCALENDAR
PRODID:NingEventWidget-v1
VERSION:2.0
METHOD:PUBLISH
BEGIN:VTIMEZONE
TZID:Europe/Paris
X-LIC-LOCATION:Europe/Paris
BEGIN:DAYLIGHT
TZOFFSETFROM:+0100
TZOFFSETTO:+0200
TZNAME:CEST
DTSTART:19700329T020000
RRULE:FREQ=YEARLY;BYMONTH=3;BYDAY=-1SU
END:DAYLIGHT
BEGIN:STANDARD
TZOFFSETFROM:+0200
TZOFFSETTO:+0100
TZNAME:CET
DTSTART:19701025T030000
RRULE:FREQ=YEARLY;BYMONTH=10;BYDAY=-1SU
END:STANDARD
END:VTIMEZONE
BEGIN:VEVENT
UID:2485226:Event:2421262
DTSTAMP:20260423T111000Z
SUMMARY:stage danse \"expression du Soi
DESCRIPTION:\n\n\"Notre destin est lié à celui de la terre d'une man
 ière irrévocable\" Pierre Rabhi\n\n\n\n\n\n\n\n\n\n\n\nChaque saiso
 n est une invitation à se relier au cycle comme une nouvelle répéti
 tion. C’est au contact des éléments que nous ressentons au plus pr
 ès de nous l’importance à s’accorder.De voyages au tambour, en d
 anse de soi, nous profiterons de l’automne pour nourrir notre terre 
 intérieure.En prenant soin de ce que nous devons lâcher nous nous re
 ndons fertiles au renouveau en nous. \n\n\n\n\n\n\n\n\n\n\n\n\nPour p
 lus d'information, aller sur https://epanews.fr/events/stage-danse-exp
 ression-du-soi
DTSTART;TZID=Europe/Paris:20151017T000000
DTEND;TZID=Europe/Paris:20151018T235900
CATEGORIES:24
LOCATION:Au domaine des Elfes et des Fées (Le Puridier)Rouffignac St 
 Cernin 24
WEBSITE:
URL:
CONTACT:
ORGANIZER;CN="Bevilacqua Véronique":https://epanews.fr/profile/Bevila
 cqua
ATTACH;FMTTYPE="image/jpeg":
ATTENDEE;ROLE=REQ-PARTICIPANT;PARTSTAT=ACCEPTED;RSVP=TRUE;CN="Bevilacq
 ua Véronique":https://epanews.fr/profile/Bevilacqua
END:VEVENT
END:VCALENDAR
