BEGIN:VCALENDAR
PRODID:NingEventWidget-v1
VERSION:2.0
METHOD:PUBLISH
BEGIN:VTIMEZONE
TZID:Europe/Paris
X-LIC-LOCATION:Europe/Paris
BEGIN:DAYLIGHT
TZOFFSETFROM:+0100
TZOFFSETTO:+0200
TZNAME:CEST
DTSTART:19700329T020000
RRULE:FREQ=YEARLY;BYMONTH=3;BYDAY=-1SU
END:DAYLIGHT
BEGIN:STANDARD
TZOFFSETFROM:+0200
TZOFFSETTO:+0100
TZNAME:CET
DTSTART:19701025T030000
RRULE:FREQ=YEARLY;BYMONTH=10;BYDAY=-1SU
END:STANDARD
END:VTIMEZONE
BEGIN:VEVENT
UID:2485226:Event:183901
DTSTAMP:20260424T130301Z
SUMMARY:Stage d'Aï-Dôi (art pacifiant) difigé par un Maître Zen
DESCRIPTION:L'apport des outils du Zen dans les arts martiaux pour les
  faire évoluer vers des arts pacifiques.\n\nCours d'expérimentation 
 pratique : « vigilance et création de la relation avant le conflit,
  … ». « se transformer engendre la transformation des autres, …
  ». « les déplacements de la Voie du milieu, ne pas esquiver, ne p
 as fuir ni affronter, … » «De la domination-soumission à l’entr
 aide, l’efficacité de la compassion ».\nConférence « l’atout 
 majeur du Zen, pierre angulaire des Budô et Buheiwa »\n« Quand les
  armes véhiculent la paix. »\n\nPour plus d'information, aller sur h
 ttps://epanews.fr/events/stage-daidoi-art-pacifiant
DTSTART;TZID=Europe/Paris:20110115T100000
DTEND;TZID=Europe/Paris:20110116T120000
CATEGORIES:64
LOCATION:PAU
WEBSITE:http://www.aidoi.com
URL:http://www.aidoi.com
CONTACT:05 59 38 66 15 ou 06 01 94 78 11
ORGANIZER:Marie SAVARY
ATTACH;FMTTYPE="image/jpeg":
ATTENDEE;ROLE=REQ-PARTICIPANT;PARTSTAT=ACCEPTED;RSVP=TRUE;CN=SAVARY:ht
 tps://epanews.fr/profile/SAVARY
END:VEVENT
END:VCALENDAR
