BEGIN:VCALENDAR
PRODID:NingEventWidget-v1
VERSION:2.0
METHOD:PUBLISH
BEGIN:VTIMEZONE
TZID:Europe/Paris
X-LIC-LOCATION:Europe/Paris
BEGIN:DAYLIGHT
TZOFFSETFROM:+0100
TZOFFSETTO:+0200
TZNAME:CEST
DTSTART:19700329T020000
RRULE:FREQ=YEARLY;BYMONTH=3;BYDAY=-1SU
END:DAYLIGHT
BEGIN:STANDARD
TZOFFSETFROM:+0200
TZOFFSETTO:+0100
TZNAME:CET
DTSTART:19701025T030000
RRULE:FREQ=YEARLY;BYMONTH=10;BYDAY=-1SU
END:STANDARD
END:VTIMEZONE
BEGIN:VEVENT
UID:2485226:Event:745242
DTSTAMP:20260422T051340Z
SUMMARY:stage dÃ©tox
DESCRIPTION:profitez de l'arrivÃ©e en beautÃ© du printemps pour entrep
 rendre une dÃ©toxination de votre corps!\nSTAGE DETOX\nJeudi (Ascensio
 n) 17-18-19 mai 2012 Ã  Meylan (Grenoble)\nOu comment rÃ©gÃ©nÃ©rer son
  organisme par lâ€™Ã©limination des toxines\n\nReprendre contact avec 
 le corpsÂ : Â Â \nLe massage : apprentissage des fondamentaux de lâ€™a
 uto massage (rÃ©flexologie plantaire et massage du ventre). Durant ce 
 stage de rÃ©gÃ©nÃ©ration vous 1 sÃ©ance de dÃ©toxination ionique de 30
  mn vous sera offerte pour aider le corps Ã  Ã©liminer et se dÃ©barras
 ser des toxines en douceur.\nUne matinÃ©e Â SPA (sauna, Â hammam, bass
 in de nage) au ChÃ¢teau de la commanderie, Ã  Eybens sera proposÃ©e po
 urÂ  se dÃ©tendre et se ressourcer. En option un massage dÃ©tox dâ€™un
 e heure vous sera proposÃ© au tarif prÃ©fÃ©rentiel de 60â‚¬.\nNettoyer
  en douceur le corps, restaurer la vitalitÃ©, câ€™est sâ€™accorder une
  grande pause pour Ã©liminer tout ce qui nous encombre sur les plans p
 hysiques et psychiques, pour rÃ©tablir lâ€™Ã©quilibre et lâ€™harmonie 
 entre notre corps physique, notre vie Ã©motionnelle et notre mental. A
  la fin du stage vous expÃ©rimenterez lesÂ  sensations de lÃ©gÃ¨retÃ©,
  dâ€™apaisement, de renouveau et de joie.\nVous Â repartirez avec de n
 ouvelles connaissances pour reprendre votre santÃ© et Â votre vitalitÃ
 © en main.\nJe vous propose de vous accompagner dans cette dÃ©marche q
 ui est le fruit de mes compÃ©tences, savoir faire et expÃ©riences de c
 es 5 derniÃ¨res annÃ©es.\nA lâ€™issu de ces 3 jours Â les personnes qu
 i le souhaitent repartiront avec tout le nÃ©cessaire pour prolonger le
 s bienfaits durant 3 semaines (Huiles essentielles, argile verte et ti
 sane).\nAu plaisir de vous retrouver durant ce stage.\nTarif & inscrip
 tions: 320â‚¬, 10% de rÃ©duction pour les inscriptions reÃ§ues avant l
 e 25 avril 2012. Le tarif inclus les repas des 2e et 3e jours, les tis
 anes et huiles essentielles, une entÃ©e au spa du ChÃ¢teau de la Comma
 nderie, une sÃ©ance de dÃ©toxination ionique et le kit pour prolonger 
 les bienfaits durant 3 semaines. RÃ¨glement en plusieurs fois possible
 .\nInscription validÃ©e dÃ¨s rÃ©ception de votre chÃ¨que de rÃ©servati
 on de 90â‚¬ (non remboursable si annulation aprÃ¨s le 1er mai)\n\n\n\n
 \n\nPour plus d'information, aller sur https://epanews.fr/events/stage
 -d-tox
DTSTART;TZID=Europe/Paris:20120517T180000
DTEND;TZID=Europe/Paris:20120519T120000
CATEGORIES:38000
LOCATION:meylan
WEBSITE:
URL:
CONTACT:
ORGANIZER;CN="Karl Di Foggia":https://epanews.fr/profile/KarlDiFoggia
ATTACH;FMTTYPE="image/jpeg":
ATTENDEE;ROLE=REQ-PARTICIPANT;PARTSTAT=ACCEPTED;RSVP=TRUE;CN="Karl Di 
 Foggia":https://epanews.fr/profile/KarlDiFoggia
END:VEVENT
END:VCALENDAR
