BEGIN:VCALENDAR
PRODID:NingEventWidget-v1
VERSION:2.0
METHOD:PUBLISH
BEGIN:VTIMEZONE
TZID:Europe/Paris
X-LIC-LOCATION:Europe/Paris
BEGIN:DAYLIGHT
TZOFFSETFROM:+0100
TZOFFSETTO:+0200
TZNAME:CEST
DTSTART:19700329T020000
RRULE:FREQ=YEARLY;BYMONTH=3;BYDAY=-1SU
END:DAYLIGHT
BEGIN:STANDARD
TZOFFSETFROM:+0200
TZOFFSETTO:+0100
TZNAME:CET
DTSTART:19701025T030000
RRULE:FREQ=YEARLY;BYMONTH=10;BYDAY=-1SU
END:STANDARD
END:VTIMEZONE
BEGIN:VEVENT
UID:2485226:Event:2661783
DTSTAMP:20260421T155943Z
SUMMARY:Stage d'Ã©tÃ© de Qi Gong, MÃ©ditation et Hutte Ã  Sudation en 
 AriÃ¨ge
DESCRIPTION:Stage de Qi Gong, MÃ©ditation et Hutte Ã  Sudation du jeud
 i 14 au dimanche 17 juillet 2016 (4 jours) : Les cinq Ã©lÃ©ments, les 
 cinq animaux et les cinq Ã©motions  Ce stage nous propose de rÃ©veille
 r notre connexion aux Ã©lÃ©ments de la nature, de mieux comprendre nos
  Ã©motions et de les expÃ©rimenter avec du recul. Nous aborderons ce t
 ravail intÃ©rieur par des pratiques et comprÃ©hensions liÃ©es Ã  la tr
 adition taoÃ¯ste : Qi Gong du Jeu des cinq animaux (Wu Qin Xi), Qi Gon
 g des cinq Ã©lÃ©ments, MÃ©ditation, Massage Ã©nergÃ©tique chinois, phi
 losophie taoiste.  Enseignante : VÃ©ronique Berthier, diplÃ´mÃ©e de la
  FEQGAE  Le lieu : Au cÅ“ur des PyrÃ©nÃ©es ariÃ©geoises, Terre Pure, C
 entre Bouddhiste familial, nous offre une magnifique vue sur la montag
 ne dans une trÃ¨s belle bÃ¢tisse en pierre. Salle de mÃ©ditation Ã  lâ
 €™ambiance tibÃ©taine. Confort rustique. Lâ€™association Terre Pure Å“
 uvre dans le domaine humanitaire, en aidant les enfants dâ€™une Ã©cole
  monastique au NÃ©pal. A Â SoulanÂ (09320). http://associationterrepur
 e.wix.com/terrepure#!en-ariege/c1xho  Pratiques en plein air, avec vue
  sur les PyrÃ©nÃ©es (selon mÃ©tÃ©o).  Vous aurez du temps libre pour d
 es balades.\nCeux qui souhaitent pourront en plus du stage participer 
 Ã  une Hutte Ã  sudation selon la tradition Sioux Lakota guidÃ©e par R
 ichard.  Informations et inscriptions : http://fleuressence.fr/Stages.
 html, association Fleurâ€™essence,VÃ©ronique Berthier 06 50 27 75 36, 
 fleuressenceasso@gmail.com\n\nPour plus d'information, aller sur https
 ://epanews.fr/events/stage-d-t-de-qi-gong-m-ditation-et-hutte-sudation
 -en-ari-ge
DTSTART;TZID=Europe/Paris:20160714T073000
DTEND;TZID=Europe/Paris:20160717T173000
CATEGORIES:09
LOCATION:Terre Pure, Soulan
WEBSITE:
URL:
CONTACT:
ORGANIZER;CN="Fleur'essence":https://epanews.fr/profile/Fleuressence
ATTACH;FMTTYPE="image/jpeg":http://storage.ning.com/topology/rest/1.0/
 file/get/1663576964?profile=original
ATTENDEE;ROLE=REQ-PARTICIPANT;PARTSTAT=ACCEPTED;RSVP=TRUE;CN="Fleur'es
 sence":https://epanews.fr/profile/Fleuressence
END:VEVENT
END:VCALENDAR
