BEGIN:VCALENDAR
PRODID:NingEventWidget-v1
VERSION:2.0
METHOD:PUBLISH
BEGIN:VTIMEZONE
TZID:Europe/Paris
X-LIC-LOCATION:Europe/Paris
BEGIN:DAYLIGHT
TZOFFSETFROM:+0100
TZOFFSETTO:+0200
TZNAME:CEST
DTSTART:19700329T020000
RRULE:FREQ=YEARLY;BYMONTH=3;BYDAY=-1SU
END:DAYLIGHT
BEGIN:STANDARD
TZOFFSETFROM:+0200
TZOFFSETTO:+0100
TZNAME:CET
DTSTART:19701025T030000
RRULE:FREQ=YEARLY;BYMONTH=10;BYDAY=-1SU
END:STANDARD
END:VTIMEZONE
BEGIN:VEVENT
UID:2485226:Event:1938652
DTSTAMP:20260421T044657Z
SUMMARY:Stage d'été de Qi Gong en Ariège les 26-27 juillet 2014
DESCRIPTION:Bonjour à tous,\nVoilà l'info pour le Stage d'été de Q
 i Gong en Ariège :\nles 26 et 27 juillet 2014 : Qi Gong de la Grande 
 Ourse dans un Centre Bouddhiste familial  « Une retraite spirituelle 
 et de bien-être au cœur de la nature »  Au programme :  - Qi Gong d
 e la Grande Ourse - Méditations - Techniques de massage énergétique
  chinois - Moments de convivialité, balades libres, marche consciente
   Pratiques en extérieur dans la montagne (si le temps le permet) Cov
 oiturage possible\nTarif du stage : 80 euros pour 2 jours (5h30 de pr
 atique/jour)\nTarif de l’hébergement (pension complète) : 24 à 3
 8 euros/jour selon confort + 3euros/jour d’adhésion à l’associat
 ion Terre pure  Renseignements et réservation auprès de Véronique :
  06 50 27 75 36, fleuressenceasso@gmail.com, www.fleuressence.fr\n\nPo
 ur plus d'information, aller sur https://epanews.fr/events/stage-d-t-d
 e-qi-gong-en-ari-ge-26-27-juillet-2014
DTSTART;TZID=Europe/Paris:20140726T073000
DTEND;TZID=Europe/Paris:20140727T173000
CATEGORIES:09
LOCATION:Soulan (09), proche de Saint Girons
WEBSITE:http://www.fleuressence.fr/index.html
URL:http://www.fleuressence.fr/index.html
CONTACT:06 50 27 75 36
ORGANIZER;CN="Fleur'essence":https://epanews.fr/profile/Fleuressence
ATTACH;FMTTYPE="image/jpeg":http://storage.ning.com/topology/rest/1.0/
 file/get/1663149933?profile=original
ATTENDEE;ROLE=REQ-PARTICIPANT;PARTSTAT=ACCEPTED;RSVP=TRUE;CN="Fleur'es
 sence":https://epanews.fr/profile/Fleuressence
ATTENDEE;ROLE=REQ-PARTICIPANT;PARTSTAT=TENTATIVE;RSVP=TRUE;CN=FRED:htt
 ps://epanews.fr/profile/FRED615
ATTENDEE;ROLE=REQ-PARTICIPANT;PARTSTAT=TENTATIVE;RSVP=TRUE;CN="La Berr
 y":https://epanews.fr/profile/LaBerry
ATTENDEE;ROLE=REQ-PARTICIPANT;PARTSTAT=TENTATIVE;RSVP=TRUE;CN=Aljael:h
 ttps://epanews.fr/profile/Aljael
END:VEVENT
END:VCALENDAR
