BEGIN:VCALENDAR
PRODID:NingEventWidget-v1
VERSION:2.0
METHOD:PUBLISH
BEGIN:VTIMEZONE
TZID:Europe/Paris
X-LIC-LOCATION:Europe/Paris
BEGIN:DAYLIGHT
TZOFFSETFROM:+0100
TZOFFSETTO:+0200
TZNAME:CEST
DTSTART:19700329T020000
RRULE:FREQ=YEARLY;BYMONTH=3;BYDAY=-1SU
END:DAYLIGHT
BEGIN:STANDARD
TZOFFSETFROM:+0200
TZOFFSETTO:+0100
TZNAME:CET
DTSTART:19701025T030000
RRULE:FREQ=YEARLY;BYMONTH=10;BYDAY=-1SU
END:STANDARD
END:VTIMEZONE
BEGIN:VEVENT
UID:2485226:Event:1913243
DTSTAMP:20260424T041156Z
SUMMARY:stage d'été :  4 jours pour se ressourcer en solo ou à part
 ager en couple
DESCRIPTION:Entrer en amitié avec soi même  la clé de l'épanouiss
 ement personnel et relationnel\n4 jours pour se ressourcer à travers 
 l’expression picturale et l’analyse des oeuvres créées, des temp
 s de sophrologie , de relaxation et de méditation assise dans un cadr
 e calme et reposant.\n\nPour plus d'information, aller sur https://epa
 news.fr/events/stage-d-t-4-jours-pour-se-ressourcer-en-solo-ou-partage
 r-en
DTSTART;TZID=Europe/Paris:20140807T000000
DTEND;TZID=Europe/Paris:20140810T235900
CATEGORIES:69, 42, 43, 07
LOCATION:A sauveur ( loire)
WEBSITE:
URL:
CONTACT:0771018189
ORGANIZER;CN=coloressence:https://epanews.fr/profile/jiheff
ATTACH;FMTTYPE="image/jpeg":http://storage.ning.com/topology/rest/1.0/
 file/get/1663149902?profile=original
ATTENDEE;ROLE=REQ-PARTICIPANT;PARTSTAT=ACCEPTED;RSVP=TRUE;CN=coloresse
 nce:https://epanews.fr/profile/jiheff
END:VEVENT
END:VCALENDAR
