BEGIN:VCALENDAR
PRODID:NingEventWidget-v1
VERSION:2.0
METHOD:PUBLISH
BEGIN:VTIMEZONE
TZID:Europe/Paris
X-LIC-LOCATION:Europe/Paris
BEGIN:DAYLIGHT
TZOFFSETFROM:+0100
TZOFFSETTO:+0200
TZNAME:CEST
DTSTART:19700329T020000
RRULE:FREQ=YEARLY;BYMONTH=3;BYDAY=-1SU
END:DAYLIGHT
BEGIN:STANDARD
TZOFFSETFROM:+0200
TZOFFSETTO:+0100
TZNAME:CET
DTSTART:19701025T030000
RRULE:FREQ=YEARLY;BYMONTH=10;BYDAY=-1SU
END:STANDARD
END:VTIMEZONE
BEGIN:VEVENT
UID:2485226:Event:918915
DTSTAMP:20260421T113011Z
SUMMARY:stage d'initiation à l'utilisation du pendule
DESCRIPTION:\nSamedi  6 octobre 2012 de 13h à 18h30\nAu «Château 
 »de Fontcouverte 11700\n\nSamedi  6 octobre 2012 de 13h à 18h30\n 
 \n\n\n\n\n\n\n \n\n\n\n\n\n Apprendre les principes d’utilisation 
 d’un pendule\nUne aide pour  se protéger et protéger son habitat
 ..\n● Historique : la radiesthésie/pendule.\n\n\n●Le pendule 
 :  outil de travail (pourquoi/ comment ?).\n●Les conventions pendu
 laires.\n●Le taux vibratoire : signification et utilisation\n●Les
  ondes de  formes (nocives et bénéfiques) de l'environnement.\n\n\n
 ● Pratique du pendule par des exercices.\n\n● Recherche du taux vi
 bratoire d’un lieu, d’une personne  \n●Exo sur l’eau : son 
 taux vibratoire, l'augmenter.\n●Ondes nocives d’un lieu, d’un ob
 jet  (wifi, TV, tél portable )  les neutraliser.\n\n\n      
             \n STAGE 60€  inscription 06 87 43 92 98
    \n \n\n\n\n\n\n\n \n \n\n\n\n\n\n              
                                 \n \n
  \n \n   Animée par Martine Tissier\nStage 1 : initiation\nAppre
 ndre les principes d’utilisation d’un pendule\nUne aide pour  se 
 protéger et protéger son habitat…..\n\n \n13h : accueil : admin
 istratif\n\n \n1ière partie : 13h30 /  15h30 : aspects théorique
 s : présentation du pendule\n\n\n● Petit historique : la radiesth
 ésie/pendule.\n●Le pendule : un outil de travail (pourquoi/ commen
 t ?).\n●Choisir son/un pendule \n●Les conventions pendulaires.\n
 ●Le taux vibratoire : signification et utilisation (échelle Bovis)
 \n●Les ondes de  formes (nocives et bénéfiques) ds votre environn
 ement.\n\n\n2ième Partie : 15h 45/ 18h : Mise en pratique\n\n\n● Pr
 atique du pendule par des exercices.\n● Recherche du taux vibratoire
 s d’un lieu, d’une personne (échelle Bovis)  \n●Exercice prat
 ique sur l’eau : calculer son taux vibratoire de l’eau et augment
 er.\n●Trouver les ondes nocives d’un lieu, d’un objet de notre q
 uotidien (wifi, télévision, téléphone portable…) comment les neu
 traliser.\n\n\n \n\n\n●Apporter votre  pendule, (Possibilité d’
 en acheter un sur place (Luzi) suffisant pour commencer)\n●Les docum
 ents nécessaires aux études seront fournis en photocopies\n     
              \nCOUT DU STAGE : 60€ (STAGE LIMITE à 1
 2 PERSONNES maximum)\nBulletin d’inscription : ●A renvoyer accom
 pagné d’un chèque d’acompte de 30€, libellé : M.Tissier (10 
 place de la Révolution 11700 FONCOUVERTE)\nPour tous renseignements 
 : 06 87 43 92 98   \nDERNIER DELAI D’INSCRIPTION 3/10/2012\n \n\
 nPour plus d'information, aller sur https://epanews.fr/events/stage-d-
 initiation-l-utilisation-du-pendule
DTSTART;TZID=Europe/Paris:20121006T004500
DTEND;TZID=Europe/Paris:20121006T014500
CATEGORIES:11
LOCATION:11700 Foncouverte 30KM de carcassonne ou narbonne
WEBSITE:
URL:
CONTACT:
ORGANIZER;CN=mitti:https://epanews.fr/profile/MT
ATTACH;FMTTYPE="image/jpeg":http://storage.ning.com/topology/rest/1.0/
 file/get/1662651201?profile=original
ATTENDEE;ROLE=REQ-PARTICIPANT;PARTSTAT=ACCEPTED;RSVP=TRUE;CN=mitti:htt
 ps://epanews.fr/profile/MT
END:VEVENT
END:VCALENDAR
