BEGIN:VCALENDAR
PRODID:NingEventWidget-v1
VERSION:2.0
METHOD:PUBLISH
BEGIN:VTIMEZONE
TZID:Europe/Paris
X-LIC-LOCATION:Europe/Paris
BEGIN:DAYLIGHT
TZOFFSETFROM:+0100
TZOFFSETTO:+0200
TZNAME:CEST
DTSTART:19700329T020000
RRULE:FREQ=YEARLY;BYMONTH=3;BYDAY=-1SU
END:DAYLIGHT
BEGIN:STANDARD
TZOFFSETFROM:+0200
TZOFFSETTO:+0100
TZNAME:CET
DTSTART:19701025T030000
RRULE:FREQ=YEARLY;BYMONTH=10;BYDAY=-1SU
END:STANDARD
END:VTIMEZONE
BEGIN:VEVENT
UID:2485226:Event:2800019
DTSTAMP:20260424T173742Z
SUMMARY:Initiation du second degrÃ© de Reiki Usui - Okugi Den
DESCRIPTION:-Â  Approfondir sa relation avec le Reiki\n-Â Â Â Â Â Â Â 
 Â Â  Rentrer dans lâ€™Ã©nergie et la dimension sacrÃ©e des symboles dâ
 €™Usui\n-Â Â Â Â Â Â Â Â Â  Renforcer les traitements de base par impo
 sition des mains\n-Â Â Â Â Â Â Â Â Â  Apprendre les traitements Ã©moti
 onnels et mentaux\n-Â Â Â Â Â Â Â Â Â  Transmettre lâ€™Ã©nergie Reiki 
 Ã  distance\n-Â Â Â Â Â Â Â Â Â  Traiter la planÃ¨te, les situations d
 e la vie\n-Â Â Â Â Â Â Â Â Â  RÃ©parer son passÃ©, prÃ©parer son futur
 \nLe second Â degrÃ©, plus quâ€™une simple technique se vit surtout co
 mme une expÃ©rience, un chemin dâ€™Ã©volution et de profonde transform
 ation.\nDans le second degrÃ©, on enseigne lâ€™usage des trois symbole
 s et leur mantra respectif qui permettent le transfert de lâ€™Ã©nergie
  guÃ©risseuse Ã  distance et dans le temps, ainsi que le soin de la co
 nscience. Okugi Den gÃ©nÃ¨re une transformation interne importante.\nP
 articipationÂ : 300â‚¬ par personne (payable en deux fois)\n\nPour plu
 s d'information, aller sur https://epanews.fr/events/stage-d-initiatio
 n-du-second-degr-de-reiki-usui-okugi-den
DTSTART;TZID=Europe/Paris:20180217T000000
DTEND;TZID=Europe/Paris:20180218T235900
CATEGORIES:83, 13
LOCATION:Toulon (Var)
WEBSITE:http://www.lavoiedureiki.fr
URL:http://www.lavoiedureiki.fr
CONTACT:0603477331
ORGANIZER;CN="Wagner Paul":https://epanews.fr/profile/WagnerPaul
ATTACH;FMTTYPE="image/jpeg":http://storage.ning.com/topology/rest/1.0/
 file/get/1663665980?profile=original
ATTENDEE;ROLE=REQ-PARTICIPANT;PARTSTAT=ACCEPTED;RSVP=TRUE;CN="Wagner P
 aul":https://epanews.fr/profile/WagnerPaul
END:VEVENT
END:VCALENDAR
