BEGIN:VCALENDAR
PRODID:NingEventWidget-v1
VERSION:2.0
METHOD:PUBLISH
BEGIN:VTIMEZONE
TZID:Europe/Paris
X-LIC-LOCATION:Europe/Paris
BEGIN:DAYLIGHT
TZOFFSETFROM:+0100
TZOFFSETTO:+0200
TZNAME:CEST
DTSTART:19700329T020000
RRULE:FREQ=YEARLY;BYMONTH=3;BYDAY=-1SU
END:DAYLIGHT
BEGIN:STANDARD
TZOFFSETFROM:+0200
TZOFFSETTO:+0100
TZNAME:CET
DTSTART:19701025T030000
RRULE:FREQ=YEARLY;BYMONTH=10;BYDAY=-1SU
END:STANDARD
END:VTIMEZONE
BEGIN:VEVENT
UID:2485226:Event:1017659
DTSTAMP:20260423T195415Z
SUMMARY:Stage d'initiation aux fleurs de Bach \"Se familiariser avec l
 es fleurs de Bach\"
DESCRIPTION:Le restaurant bio et végan Le jardin intérieur, situé s
 ur le plateau de la Croix-Rousse, accueille Caroline Pico, conseillèr
 e en fleurs de Bach pour un stage d'initiation aux fleurs de Bach.\nAu
  programme, vous faire découvrir le docteur Bach et sa méthode, vous
  permettre de vous familiariser avec les fleurs et de savoir les disti
 nguer pour commencer à les utiliser dans un contexte personnel. Les u
 tilisations du rescue, connues ou non pour l'humain et les animaux son
 t aussi abordés.\nDe nombreux exercices pédagogiques et un support d
 e cours vous permettent un meilleur apprentissage.\nLe stage se dérou
 le sur 2 jours de 9h30 à 18h pour un coût de 160€ (n’inclut pas 
 les repas).\nNB : cette formation ne s'inscrit pas dans le cursus de f
 ormation agrée par le centre Bach pour devenir conseiller en fleurs d
 e Bach.\nPour connaître le détail du contenu et les modalités d'ins
 cription, RDV sur http://www.fleurs-de-bach-lyon.com/formations-fleurs
 -de-bach-lyon.php\n\"Au plaisir de vous faire découvrir ce merveilleu
 x outil de développement personnel et de gestion des émotions\". Car
 oline Pico\n\nPour plus d'information, aller sur https://epanews.fr/ev
 ents/stage-d-initiation-aux-fleurs-de-bach-se-familiariser-avec-les
DTSTART;TZID=Europe/Paris:20121130T093000
DTEND;TZID=Europe/Paris:20121201T180000
CATEGORIES:69
LOCATION:Le jardin intérieur LYON
WEBSITE:http://www.restaurantjardininterieur.fr/crbst_8.html
URL:http://www.restaurantjardininterieur.fr/crbst_8.html
CONTACT:06 83 93 70 86
ORGANIZER:Caroline Pico, Conseillère Fleurs de Bach
ATTACH;FMTTYPE="image/jpeg":http://storage.ning.com/topology/rest/1.0/
 file/get/1662694073?profile=original
ATTENDEE;ROLE=REQ-PARTICIPANT;PARTSTAT=ACCEPTED;RSVP=TRUE;CN="Conseill
 ère  Fleurs de Bach":https://epanews.fr/profile/ConseillereFleursdeBa
 ch
END:VEVENT
END:VCALENDAR
