BEGIN:VCALENDAR
PRODID:NingEventWidget-v1
VERSION:2.0
METHOD:PUBLISH
BEGIN:VTIMEZONE
TZID:Europe/Paris
X-LIC-LOCATION:Europe/Paris
BEGIN:DAYLIGHT
TZOFFSETFROM:+0100
TZOFFSETTO:+0200
TZNAME:CEST
DTSTART:19700329T020000
RRULE:FREQ=YEARLY;BYMONTH=3;BYDAY=-1SU
END:DAYLIGHT
BEGIN:STANDARD
TZOFFSETFROM:+0200
TZOFFSETTO:+0100
TZNAME:CET
DTSTART:19701025T030000
RRULE:FREQ=YEARLY;BYMONTH=10;BYDAY=-1SU
END:STANDARD
END:VTIMEZONE
BEGIN:VEVENT
UID:2485226:Event:1878840
DTSTAMP:20260422T014035Z
SUMMARY:Stage d'improvisation thÃ©Ã¢trale pour adultes
DESCRIPTION:ENRICHISSEZ VOS INTERACTIONS PAR L'IMPROVISATION THEATRALE
 \n\nEn improvisation thÃ©Ã¢trale, comme lâ€™Ã©crivain face Ã  sa page 
 blanche, les Â«Â jouteursÂ Â» construisent ensemble une histoire, briq
 ue par brique, avec pour seuls matÃ©riaux leur corps, leur imaginaire 
 et leur ouverture. Les bases de lâ€™impro sont la co-construction, lâ€
 ™Ã©coute, lâ€™assertivitÃ©, la crÃ©ativitÃ© et le sens du collectif, â
 €¦ le tout dans un esprit ludique et convivialÂ !\nGroupe de 12 person
 nes maximum.\n210 euros pour les 5 jours.\nInscription: florence.pire@
 gmail.com\n\n\nPour plus d'information, aller sur https://epanews.fr/e
 vents/stage-d-improvisation-theatrale-pour-adultes
DTSTART;TZID=Europe/Paris:20140714T093000
DTEND;TZID=Europe/Paris:20140718T163000
CATEGORIES:belgique
LOCATION:Bruxelles
WEBSITE:
URL:
CONTACT:+32(0)478/80.44.41
ORGANIZER;CN="Ex-pression asbl":https://epanews.fr/profile/Expressiona
 sbl
ATTACH;FMTTYPE="image/jpeg":http://storage.ning.com/topology/rest/1.0/
 file/get/1663115757?profile=original
ATTENDEE;ROLE=REQ-PARTICIPANT;PARTSTAT=ACCEPTED;RSVP=TRUE;CN="Ex-press
 ion asbl":https://epanews.fr/profile/Expressionasbl
END:VEVENT
END:VCALENDAR
