BEGIN:VCALENDAR
PRODID:NingEventWidget-v1
VERSION:2.0
METHOD:PUBLISH
BEGIN:VTIMEZONE
TZID:Europe/Paris
X-LIC-LOCATION:Europe/Paris
BEGIN:DAYLIGHT
TZOFFSETFROM:+0100
TZOFFSETTO:+0200
TZNAME:CEST
DTSTART:19700329T020000
RRULE:FREQ=YEARLY;BYMONTH=3;BYDAY=-1SU
END:DAYLIGHT
BEGIN:STANDARD
TZOFFSETFROM:+0200
TZOFFSETTO:+0100
TZNAME:CET
DTSTART:19701025T030000
RRULE:FREQ=YEARLY;BYMONTH=10;BYDAY=-1SU
END:STANDARD
END:VTIMEZONE
BEGIN:VEVENT
UID:2485226:Event:2138724
DTSTAMP:20260422T205329Z
SUMMARY:Stage d'hommes - \"Etre un Homme\"
DESCRIPTION:Prochaine rencontre entre hommes du 29 au 31 mai 2015 - St
 age \"Etre un Homme\"\nDans un cadre magnifique dans les Cévennes\n3
  jours pour prendre le temps d’explorer nos différentes dimensions 
 masculines pour aller à la rencontre de notre puissance, en relation.
 \nDes hommes ensemble pendant 3 jours pour, dans un cadre sécurisant 
 :\n\n  Accueillir, dans le respect et la confidentialité, nos ble
 ssures d’enfants, d’ados, d’adultes, nos difficultés, nos peurs
 , nos contradictions, nos doutes, nos croyances, notre violence, notre
  agressivité et notre sexualité.\n\n  Revisiter les représentat
 ions et les valeurs qui nous ont été transmises afin de nous réappr
 oprier celles qui nous font sens.\nApprendre ou réapprendre à se 
 poser pour reprendre contact avec soi, avec son corps. Remobiliser not
 re énergie vitale et la faire circuler avec la respiration, le son et
  le mouvement.\nEtre un homme, c’est honorer notre masculin et nous 
 affirmer dans notre ressenti et nos actions.\n\n\n\nDes ateliers ludiq
 ues, des expérimentations, des confrontations,despartages,desméditat
 ionsetdes rituels vous seront proposés par Samuel et Gilles tout au l
 ong de ce voyage.\nPrésence à soi.\nEtre à l'écoute de l'autre et 
 du monde.\nSortir du silence et choisir.\nAller à la rencontre de nou
 s-même pour faire émerger notre vitalité.\nS'appuyer sur d'autres h
 ommes pour aller plus loin dans la décou verte de notre mas culin .\n
 Oser l'expérience, faire autrement et prendre conscience de nos fonct
 ionnements.\nIntégrer n os polarités féminine et masculine.\n\nModa
 lités :\nDates : Du vendredi 29 à10h30 au dimanche 31 mai à 16h.\nL
  i e u : A “La Nougarede”(Gard)\nTarifs : 330 € par personne (h
 ors hébergement) - 10% pour toute inscription avant le 15/03/2015\nUn
  entretien téléphonique est nécessaire avant toute finalisation d'i
 nscription - Merci de contacter Gilles au 0620272910\n\n\n\n\nPour plu
 s d'information, aller sur https://epanews.fr/events/stage-d-hommes-et
 re-un-homme
DTSTART;TZID=Europe/Paris:20150529T000000
DTEND;TZID=Europe/Paris:20150531T235900
CATEGORIES:48400
LOCATION:Dans les Cévennes
WEBSITE:http://www.gestalt-attitude.com
URL:http://www.gestalt-attitude.com
CONTACT:0620272910
ORGANIZER;CN=TRIBALAT:https://epanews.fr/profile/TRIBALAT
ATTACH;FMTTYPE="image/jpeg":http://storage.ning.com/topology/rest/1.0/
 file/get/1663268024?profile=original
ATTENDEE;ROLE=REQ-PARTICIPANT;PARTSTAT=ACCEPTED;RSVP=TRUE;CN=TRIBALAT:
 https://epanews.fr/profile/TRIBALAT
END:VEVENT
END:VCALENDAR
