BEGIN:VCALENDAR
PRODID:NingEventWidget-v1
VERSION:2.0
METHOD:PUBLISH
BEGIN:VTIMEZONE
TZID:Europe/Paris
X-LIC-LOCATION:Europe/Paris
BEGIN:DAYLIGHT
TZOFFSETFROM:+0100
TZOFFSETTO:+0200
TZNAME:CEST
DTSTART:19700329T020000
RRULE:FREQ=YEARLY;BYMONTH=3;BYDAY=-1SU
END:DAYLIGHT
BEGIN:STANDARD
TZOFFSETFROM:+0200
TZOFFSETTO:+0100
TZNAME:CET
DTSTART:19701025T030000
RRULE:FREQ=YEARLY;BYMONTH=10;BYDAY=-1SU
END:STANDARD
END:VTIMEZONE
BEGIN:VEVENT
UID:2485226:Event:1076617
DTSTAMP:20260423T042334Z
SUMMARY:Stage découverte Taï Chi Chuan & Energétique Humaine
DESCRIPTION:Qi-Qong, Taï Chi Chuan et 3 formes de respiration (aérie
 nne, interne et embryonnaire). Introduction à la formation Lemniscate
  Processus Workshop : www.lemniscate-processus.com\n\nPour plus d'inf
 ormation, aller sur https://epanews.fr/events/stage-d-couverte-ta-chi-
 chuan-energ-tique-humaine
DTSTART;TZID=Europe/Paris:20130112T090000
DTEND;TZID=Europe/Paris:20130112T123000
CATEGORIES:30
LOCATION:Salle multisports de Quissac
WEBSITE:
URL:
CONTACT:
ORGANIZER;CN="ITCCA Piémont Cévenol":https://epanews.fr/profile/ITCC
 APiemontCevenol
ATTACH;FMTTYPE="image/jpeg":http://storage.ning.com/topology/rest/1.0/
 file/get/1662719574?profile=original
ATTENDEE;ROLE=REQ-PARTICIPANT;PARTSTAT=ACCEPTED;RSVP=TRUE;CN="ITCCA Pi
 émont Cévenol":https://epanews.fr/profile/ITCCAPiemontCevenol
END:VEVENT
END:VCALENDAR
