BEGIN:VCALENDAR
PRODID:NingEventWidget-v1
VERSION:2.0
METHOD:PUBLISH
BEGIN:VTIMEZONE
TZID:Europe/Paris
X-LIC-LOCATION:Europe/Paris
BEGIN:DAYLIGHT
TZOFFSETFROM:+0100
TZOFFSETTO:+0200
TZNAME:CEST
DTSTART:19700329T020000
RRULE:FREQ=YEARLY;BYMONTH=3;BYDAY=-1SU
END:DAYLIGHT
BEGIN:STANDARD
TZOFFSETFROM:+0200
TZOFFSETTO:+0100
TZNAME:CET
DTSTART:19701025T030000
RRULE:FREQ=YEARLY;BYMONTH=10;BYDAY=-1SU
END:STANDARD
END:VTIMEZONE
BEGIN:VEVENT
UID:2485226:Event:1594439
DTSTAMP:20260423T131256Z
SUMMARY:Stage DÃ©couverte du Nia
DESCRIPTION:\n\nThÃ¨me. Les 9 formes de mouvement dont le Nia s'inspir
 e. Qu'est ce qui rend la technique Nia unique? Quels en sont les bienf
 aits?Â  A l'issue de stage de deux heures vous aurez une meilleure idÃ
 ©e de ce qu'est le Nia et de ce que cette technique peut vous apporter
  dans votre vie. On danseraÂ Ã©galementÂ sur Zensation, une chorÃ©grap
 hie classique de Nia dont le thÃ¨me est les 9 formes de mouvement.\n\n
 \n\n\nPour plus d'infos / Inscriptions auprÃ¨s de Magali au 0628624483
  ou par email - Places limitÃ©es.\n\nPour plus d'information, aller su
 r https://epanews.fr/events/stage-d-couverte-du-nia
DTSTART;TZID=Europe/Paris:20131116T143000
DTEND;TZID=Europe/Paris:20131116T163000
CATEGORIES:69
LOCATION:Lyon
WEBSITE:http://www.movenbe.fr
URL:http://www.movenbe.fr
CONTACT:0628624483
ORGANIZER;CN="Danse Nia Ã  Lyon.":https://epanews.fr/profile/MagaliRom
 ano
ATTACH;FMTTYPE="image/jpeg":http://storage.ning.com/topology/rest/1.0/
 file/get/1662954340?profile=original
ATTENDEE;ROLE=REQ-PARTICIPANT;PARTSTAT=ACCEPTED;RSVP=TRUE;CN="Danse Ni
 a Ã  Lyon.":https://epanews.fr/profile/MagaliRomano
END:VEVENT
END:VCALENDAR
