BEGIN:VCALENDAR
PRODID:NingEventWidget-v1
VERSION:2.0
METHOD:PUBLISH
BEGIN:VTIMEZONE
TZID:Europe/Paris
X-LIC-LOCATION:Europe/Paris
BEGIN:DAYLIGHT
TZOFFSETFROM:+0100
TZOFFSETTO:+0200
TZNAME:CEST
DTSTART:19700329T020000
RRULE:FREQ=YEARLY;BYMONTH=3;BYDAY=-1SU
END:DAYLIGHT
BEGIN:STANDARD
TZOFFSETFROM:+0200
TZOFFSETTO:+0100
TZNAME:CET
DTSTART:19701025T030000
RRULE:FREQ=YEARLY;BYMONTH=10;BYDAY=-1SU
END:STANDARD
END:VTIMEZONE
BEGIN:VEVENT
UID:2485226:Event:2711646
DTSTAMP:20260420T135632Z
SUMMARY:stage découverte ateliers
DESCRIPTION:Stage de découverte de nos activités: Thème Ressources 
 de l'énergie.\nCe stage est gratuit. Il vous permettra de faire conna
 issance avec notre programme et avec notre association.\n\nPour plus d
 'information, aller sur https://epanews.fr/events/stage-d-couverte-ate
 liers
DTSTART;TZID=Europe/Paris:20160925T180000
DTEND;TZID=Europe/Paris:20160925T190000
CATEGORIES:93
LOCATION:sevran
WEBSITE:http://sevranhetre.wixsite.com/hetre
URL:http://sevranhetre.wixsite.com/hetre
CONTACT:Info et inscription par téléphone Tel : 06.12.72.90.31 Email
 : jocebw@hotmail.com
ORGANIZER:Association H..E.T.R.E
ATTACH;FMTTYPE="image/jpeg":http://storage.ning.com/topology/rest/1.0/
 file/get/1663605771?profile=original
ATTENDEE;ROLE=REQ-PARTICIPANT;PARTSTAT=ACCEPTED;RSVP=TRUE;CN="murielle
  djebar":https://epanews.fr/profile/murielledjebar
END:VEVENT
END:VCALENDAR
