BEGIN:VCALENDAR
PRODID:NingEventWidget-v1
VERSION:2.0
METHOD:PUBLISH
BEGIN:VTIMEZONE
TZID:Europe/Paris
X-LIC-LOCATION:Europe/Paris
BEGIN:DAYLIGHT
TZOFFSETFROM:+0100
TZOFFSETTO:+0200
TZNAME:CEST
DTSTART:19700329T020000
RRULE:FREQ=YEARLY;BYMONTH=3;BYDAY=-1SU
END:DAYLIGHT
BEGIN:STANDARD
TZOFFSETFROM:+0200
TZOFFSETTO:+0100
TZNAME:CET
DTSTART:19701025T030000
RRULE:FREQ=YEARLY;BYMONTH=10;BYDAY=-1SU
END:STANDARD
END:VTIMEZONE
BEGIN:VEVENT
UID:2485226:Event:973549
DTSTAMP:20260420T081113Z
SUMMARY:Stage d'Automne le 20 octobre à Toulouse
DESCRIPTION:C’est en observant la nature, et plus particulièrement 
 les rythmes saisonniers, que l’homme a fondé ses théories du chang
 ement et de l’évolution.\nCes différents rythmes saisonniers circu
 lent à travers notre corps énergétique et réagissent avec notre na
 ture propre. Ce qui peut expliquer pourquoi nous nous sentons parfois 
 en parfait accord avec une saison ou, au contraire, nous avons la sens
 ation d’être «déchargés», épuisés, fatigués.\n\nPour vous se
 ntir bien dans cette saison, et afin de mieux vous préparer aux chang
 ements, je vous invite à découvrir mon stage d'Automne.\n\nAu progra
 mme de cette séance :\n- exercices et pratiques énergétiques utiles
  pour bien vivre l'Automne\n- conscience corporelle, mouvements et res
 piration\n- auto-massages spécifiques d' Automne\n- astuces de relaxa
 tion\n- conseils sur l'alimentation.\n\n\nCe stage a lieu au centre cu
 lturel de Yemaya ( 47 route de Blagnac, quartier des sept deniers à T
 oulouse), le samedi 20 octobre de 10h30 à 12h. La participation est d
 e 15€ par stage pour le cycle complet \"Au rythme des saisons\" (qua
 tre stages sur l'année) ou de 18€ pour le seul stage d'Automne.\n\n
 Le nombre de places étant limité, merci de bien vouloir vous inscrir
 e par mail ou par téléphone.\nSi vous désirez en savoir plus sur me
 s stages ou mes différentes activités, vous trouverez plus d'informa
 tions et de renseignements en consultant mon blog.\nAgréable journée
  d'Automne.\n\nPour plus d'information, aller sur https://epanews.fr/e
 vents/stage-d-automne-le-20-octobre-toulouse
DTSTART;TZID=Europe/Paris:20121020T103000
DTEND;TZID=Europe/Paris:20121020T120000
CATEGORIES:31
LOCATION:Centre culturel de Yemaya
WEBSITE:http://www.yemaya.asso.fr
URL:http://www.yemaya.asso.fr
CONTACT:0632443998
ORGANIZER;CN=Géraldine:https://epanews.fr/profile/Geraldine280
ATTACH;FMTTYPE="image/jpeg":http://storage.ning.com/topology/rest/1.0/
 file/get/1662676832?profile=original
ATTENDEE;ROLE=REQ-PARTICIPANT;PARTSTAT=ACCEPTED;RSVP=TRUE;CN=Géraldin
 e:https://epanews.fr/profile/Geraldine280
END:VEVENT
END:VCALENDAR
