BEGIN:VCALENDAR
PRODID:NingEventWidget-v1
VERSION:2.0
METHOD:PUBLISH
BEGIN:VTIMEZONE
TZID:Europe/Paris
X-LIC-LOCATION:Europe/Paris
BEGIN:DAYLIGHT
TZOFFSETFROM:+0100
TZOFFSETTO:+0200
TZNAME:CEST
DTSTART:19700329T020000
RRULE:FREQ=YEARLY;BYMONTH=3;BYDAY=-1SU
END:DAYLIGHT
BEGIN:STANDARD
TZOFFSETFROM:+0200
TZOFFSETTO:+0100
TZNAME:CET
DTSTART:19701025T030000
RRULE:FREQ=YEARLY;BYMONTH=10;BYDAY=-1SU
END:STANDARD
END:VTIMEZONE
BEGIN:VEVENT
UID:2485226:Event:2781239
DTSTAMP:20260421T000159Z
SUMMARY:stage d'art-thérapie : un voyage vers soi
DESCRIPTION:Partez en voyage à la rencontre de votre histoire.\nJe pr
 atique des ateliers où le métissage d’ outils tels que : peinture 
 / son / video / visualisation / respiration / jeu / histoire de l’ar
 t / exercices de créativité …sont autant d’inspirations que de s
 outien à notre propre expression.\nAujourd'hui je vous propose un ate
 lier sur les histoires de vies sur des bandes de tissus teintes et pei
 ntes par le biais de codes et symboles africains …venez raconter la 
 votre !\nAu terme de cet atelier, nous réunirons toutes ces bandes, t
 elles des empreintes de vie et organiserons un oeuvre murale collectiv
 e, comme happening de cette belle journée.\n« Aller à la rencontre 
 des gens, un voyage en soi, guide ma manière de créer et de donner d
 u sens \"\nAucune prédisposition à la peinture n'est requise.\nLe ma
 tériel et les collations sont inclus.\n\nPour plus d'information, all
 er sur https://epanews.fr/events/stage-d-art-th-rapie-un-voyage-vers-s
 oi
DTSTART;TZID=Europe/Paris:20170211T140000
DTEND;TZID=Europe/Paris:20170211T163000
CATEGORIES:13
LOCATION:Sausset-les-Pins
WEBSITE:https://creativiteblog.wordpress.com
URL:https://creativiteblog.wordpress.com
CONTACT:0614827577
ORGANIZER;CN=nancy:https://epanews.fr/profile/nancy312
ATTACH;FMTTYPE="image/jpeg":http://storage.ning.com/topology/rest/1.0/
 file/get/1663638205?profile=original
ATTENDEE;ROLE=REQ-PARTICIPANT;PARTSTAT=ACCEPTED;RSVP=TRUE;CN=nancy:htt
 ps://epanews.fr/profile/nancy312
END:VEVENT
END:VCALENDAR
