BEGIN:VCALENDAR
PRODID:NingEventWidget-v1
VERSION:2.0
METHOD:PUBLISH
BEGIN:VTIMEZONE
TZID:Europe/Paris
X-LIC-LOCATION:Europe/Paris
BEGIN:DAYLIGHT
TZOFFSETFROM:+0100
TZOFFSETTO:+0200
TZNAME:CEST
DTSTART:19700329T020000
RRULE:FREQ=YEARLY;BYMONTH=3;BYDAY=-1SU
END:DAYLIGHT
BEGIN:STANDARD
TZOFFSETFROM:+0200
TZOFFSETTO:+0100
TZNAME:CET
DTSTART:19701025T030000
RRULE:FREQ=YEARLY;BYMONTH=10;BYDAY=-1SU
END:STANDARD
END:VTIMEZONE
BEGIN:VEVENT
UID:2485226:Event:2913437
DTSTAMP:20260422T104320Z
SUMMARY:Stage cuisine
DESCRIPTION:Guy OBOEUF, professeur à l'école hôtelière de Toulon, 
 vous propose de revisiter des plats traditionnels de la cuisine portug
 aise. Chaque jour sera l'occasion de découvrir les recettes d'un plat
  ou d'un dessert nouveau pour le plus grand plaisir de vos papilles. L
 es après-midi de ce séjour seront consacré à la visite de domaines
  vinicoles et des alentours. Un séjour gastronomique sous la baguette
  d'un homme de grand talent et d'une très grande générosité.\nPlus
  d'infos sur le site : www.lesjardinsdelaserenite.com\n\nPour plus d'i
 nformation, aller sur https://epanews.fr/events/stage-cuisine
DTSTART;TZID=Europe/Paris:20180812T140000
DTEND;TZID=Europe/Paris:20180818T000000
CATEGORIES:portugal
LOCATION:Cernache do Bonjardim
WEBSITE:http://www.lesjardinsdelaserenite.com
URL:http://www.lesjardinsdelaserenite.com
CONTACT:
ORGANIZER:Les jardins de la sérénité
ATTACH;FMTTYPE="image/jpeg":http://storage.ning.com/topology/rest/1.0/
 file/get/1663707986?profile=original
ATTENDEE;ROLE=REQ-PARTICIPANT;PARTSTAT=ACCEPTED;RSVP=TRUE;CN="Les jard
 ins de la Sérénité":https://epanews.fr/profile/ChevalGenet
END:VEVENT
END:VCALENDAR
