BEGIN:VCALENDAR
PRODID:NingEventWidget-v1
VERSION:2.0
METHOD:PUBLISH
BEGIN:VTIMEZONE
TZID:Europe/Paris
X-LIC-LOCATION:Europe/Paris
BEGIN:DAYLIGHT
TZOFFSETFROM:+0100
TZOFFSETTO:+0200
TZNAME:CEST
DTSTART:19700329T020000
RRULE:FREQ=YEARLY;BYMONTH=3;BYDAY=-1SU
END:DAYLIGHT
BEGIN:STANDARD
TZOFFSETFROM:+0200
TZOFFSETTO:+0100
TZNAME:CET
DTSTART:19701025T030000
RRULE:FREQ=YEARLY;BYMONTH=10;BYDAY=-1SU
END:STANDARD
END:VTIMEZONE
BEGIN:VEVENT
UID:2485226:Event:521713
DTSTAMP:20260422T005414Z
SUMMARY:stage \" créer un couple vivant\"
DESCRIPTION:Stage résidentiel de développement personnel animé par
  un couple de thérapeutes de 3 jours à vivre en couple pour (re)do
 nner un élan de vie à la relation, faire un break enrichissant et a
 cquérir des outils de communication. PLus d'infos et tarif: www.unive
 rsdupossible.com\n\nPour plus d'information, aller sur https://epanews
 .fr/events/stage-cr-er-un-couple-vivant
DTSTART;TZID=Europe/Paris:20110923T090000
DTEND;TZID=Europe/Paris:20110925T170000
CATEGORIES:13
LOCATION:Aix en Provence
WEBSITE:http://domainelachapelle.com
URL:http://domainelachapelle.com
CONTACT:06 19 10 06 88
ORGANIZER:L'Univers du Possible
ATTACH;FMTTYPE="image/jpeg":http://storage.ning.com/topology/rest/1.0/
 file/get/1662455164?profile=original
ATTENDEE;ROLE=REQ-PARTICIPANT;PARTSTAT=ACCEPTED;RSVP=TRUE;CN="Vandezan
 de Anne":https://epanews.fr/profile/VandezandeAnne
END:VEVENT
END:VCALENDAR
