BEGIN:VCALENDAR
PRODID:NingEventWidget-v1
VERSION:2.0
METHOD:PUBLISH
BEGIN:VTIMEZONE
TZID:Europe/Paris
X-LIC-LOCATION:Europe/Paris
BEGIN:DAYLIGHT
TZOFFSETFROM:+0100
TZOFFSETTO:+0200
TZNAME:CEST
DTSTART:19700329T020000
RRULE:FREQ=YEARLY;BYMONTH=3;BYDAY=-1SU
END:DAYLIGHT
BEGIN:STANDARD
TZOFFSETFROM:+0200
TZOFFSETTO:+0100
TZNAME:CET
DTSTART:19701025T030000
RRULE:FREQ=YEARLY;BYMONTH=10;BYDAY=-1SU
END:STANDARD
END:VTIMEZONE
BEGIN:VEVENT
UID:2485226:Event:37590
DTSTAMP:20260419T181551Z
SUMMARY:Stage Couleurs et Mandalas : Connaissez-vous votre Don ?
DESCRIPTION:Philippe Houyet Animateur Des Couleurs pour la Vie et Mari
 e-Josée Dubois Artiste peintre et Animatrice Couleurs et Bien Etre vo
 us proposent le stage :\n\nConnaissez-vous votre Don ?\n\nPartir à la
  rencontre de votre don et l'exprimer dans tous les domaines de votre 
 vie, c'est ce que nous vous proposons d'expérimenter dans ce stage .\
 n\nEn première partie avec Philippe, vous découvrirez votre qualité
  innée, ce qui vous empêche (le frein) d'être aujourd'hui pleinemen
 t dans votre Don et dans quel domaine de prédilection vous pourrez l'
 exercer, pour ensuite aborder la Couleur (le mode de comportement) qui
  vous soutiendra dans ce travail.\n\nEn deuxième partie, vous partire
 z en peinture avec Marie-Josée et tout en développant vos qualités 
 créatrices et intuitives au travers ce Mandala unique (outil magique 
 vous reliant à votre source), vous incarnerez en conscience les coule
 urs de votre Don.\n\nLieu : Atelier Patrick Collandre – Paris 11\nHo
 raires : 10h - 18h\ntarifs : 110 euros (matériel compris)\nwww.descou
 leurspourlavie - www.couleursetbienetre.com\n\nPour information, le Do
 n est le premier volet d'un travail en deux parties.\nDans le 2ème vo
 let, La Mission de Vie, prévue pour le début de l'automne, vous perm
 ettra de découvrir la Couleur de votre Mission mais également celle 
 des personnes qui se présenteront sur votre chemin afin de vous perme
 ttre de l'accomplir, ainsi que celle de la qualité particulière à f
 aire grandir car c'est l'outil pour réussir votre mission\n\nPour plu
 s d'information, aller sur https://epanews.fr/events/stage-couleurs-et
 -mandalas
DTSTART;TZID=Europe/Paris:20100410T000000
DTEND;TZID=Europe/Paris:20100410T235900
CATEGORIES:75
LOCATION:Paris (métro Belleville)
WEBSITE:http://www.couleursetbienetre.com
URL:http://www.couleursetbienetre.com
CONTACT:
ORGANIZER;CN="Marie Dubois":https://epanews.fr/profile/MarieJoseeDuboi
 s
ATTACH;FMTTYPE="image/jpeg":http://storage.ning.com/topology/rest/1.0/
 file/get/1662292595?profile=original
ATTENDEE;ROLE=REQ-PARTICIPANT;PARTSTAT=ACCEPTED;RSVP=TRUE;CN="Marie Du
 bois":https://epanews.fr/profile/MarieJoseeDubois
END:VEVENT
END:VCALENDAR
