BEGIN:VCALENDAR
PRODID:NingEventWidget-v1
VERSION:2.0
METHOD:PUBLISH
BEGIN:VTIMEZONE
TZID:Europe/Paris
X-LIC-LOCATION:Europe/Paris
BEGIN:DAYLIGHT
TZOFFSETFROM:+0100
TZOFFSETTO:+0200
TZNAME:CEST
DTSTART:19700329T020000
RRULE:FREQ=YEARLY;BYMONTH=3;BYDAY=-1SU
END:DAYLIGHT
BEGIN:STANDARD
TZOFFSETFROM:+0200
TZOFFSETTO:+0100
TZNAME:CET
DTSTART:19701025T030000
RRULE:FREQ=YEARLY;BYMONTH=10;BYDAY=-1SU
END:STANDARD
END:VTIMEZONE
BEGIN:VEVENT
UID:2485226:Event:958253
DTSTAMP:20260420T063549Z
SUMMARY:Stage Corps et Chakras
DESCRIPTION:Nous vous proposons 2 jours consacrÃ©s Ã  Ã©quilibrer et r
 Ã©harmoniser votre corps et vos chakras. Le premier temps de ce nouvea
 u stage sera consacrÃ© Ã  revisiter les bases du systÃ¨me Ã©nergÃ©tiqu
 e dans son approche traditionnelle des chakras; dans un second temps, 
 nous irons, ensemble, un pas plus loin dans lâ€™exploration de ces cen
 tres dâ€™Ã©nergie, afin dâ€™en activer le pouvoir transformateur.\nAfi
 n de faciliter lâ€™ouverture de ce potentiel, nous Â«travaillerons not
 re TerreÂ Â», c'est-Ã -dire notre corps, grÃ¢ce Ã  du mouvement psycho
 corporel en MÃ©thode de LibÃ©ration des Cuirasses (voir sur www.voiedu
 corps.com). Cette approche douce et respectueuse rÃ©Ã©quilibre en prof
 ondeur en dÃ©nouant les zones de tensions et en libÃ©rant les Ã©motion
 s qui y sont engramÃ©es.\nMouvement corporel spontanÃ© de transformati
 on, temps dâ€™imagerie intÃ©rieure et exercices approfondis avec le So
 n et le Souffle complÃ¨teront ce travail.\nUn pas plus loin Ã©galement
  dans la mÃ©thode du Toucher Quantum sur les chakras, en rencontrant c
 ette fois directement VOTRE pouvoir guÃ©risseur. Nous aborderons ces n
 ouvelles dimensions que sont les Chakras de l'Ombre, la connexion avec
  les chakras planÃ©taires et l'activation Ã©nergÃ©tique par les Sons. 
 Autant de portes que vous ouvrirez Ã  votre rythme, en vous respectant
 , pour aller habiter pleinement cet espace en vous oÃ¹ tout devient po
 ssible...\nDes espaces de mÃ©ditation en silence ponctueront ces prati
 ques de travail sur lâ€™Ã©nergie et lâ€™ouverture de votre conscience 
 de toutes vos dimensions, dans Qui Vous Etes Vraiment.\nEnfin, en comp
 lÃ©ment, nous vous proposons dâ€™Ã©changer surÂ  vos perceptions de ce
  Monde qui change, et de contempler comment vivre pleinement les Ã©vol
 utions Ã©nergÃ©tiques du moment en lÃ¢chant prise sur ce qui change en
  vous.\nCe stage est ouvert Ã  tous, sans aucune notion de niveau. Cha
 cun y trouvera matiÃ¨re Ã  progresser dans la connaissance de lui-mÃªm
 e, dans l'acceptation de ses Ã©motions, de ses ressentis physiques com
 me dans l'ouverture Ã  de nouveaux espaces intÃ©rieurs.\nDates: 20-21 
 Octobre, de 10h Ã  17h30, Ã  Â Blagnac (31)\nPour vous accompagner:\nL
 aurence Sibillat, psychopraticienne. FasciathÃ©rapie, MÃ©thode de LibÃ
 ©ration des Cuirasses (approche Marie-Lise LabontÃ©), Accompagnement d
 es traumas psychologiques par els mouvements oculaires (IMO), Travail 
 Ã©motionnel accompagnÃ© par le Cheval.\nRomain Gherdane,praticien psyc
 hocorporel. FormÃ© en fasciathÃ©rapie, rÃ©harmonisation Ã©nergÃ©tique,
  relaxation par le toucher.\nTarif: 180 euros les deux journÃ©es. (prÃ
 ©voir votre pique-nique pur le repas de midi).\nNombre de places limit
 Ã©, rÃ©servation indispensable.\nPour tout renseignement complÃ©mentai
 re et obtenir le bulletin d'inscription: laurence.sibillat@gmail.com\n
 \nPour plus d'information, aller sur https://epanews.fr/events/stage-c
 orps-et-chakras
DTSTART;TZID=Europe/Paris:20121020T000000
DTEND;TZID=Europe/Paris:20121021T235900
CATEGORIES:31
LOCATION:Blagnac (Toulouse)
WEBSITE:http://www.voieducorps.com
URL:http://www.voieducorps.com
CONTACT:
ORGANIZER;CN="Laurence Sibillat":https://epanews.fr/profile/LaurenceSi
 billat
ATTACH;FMTTYPE="image/jpeg":http://storage.ning.com/topology/rest/1.0/
 file/get/1662667791?profile=original
ATTENDEE;ROLE=REQ-PARTICIPANT;PARTSTAT=ACCEPTED;RSVP=TRUE;CN="Laurence
  Sibillat":https://epanews.fr/profile/LaurenceSibillat
END:VEVENT
END:VCALENDAR
