BEGIN:VCALENDAR
PRODID:NingEventWidget-v1
VERSION:2.0
METHOD:PUBLISH
BEGIN:VTIMEZONE
TZID:Europe/Paris
X-LIC-LOCATION:Europe/Paris
BEGIN:DAYLIGHT
TZOFFSETFROM:+0100
TZOFFSETTO:+0200
TZNAME:CEST
DTSTART:19700329T020000
RRULE:FREQ=YEARLY;BYMONTH=3;BYDAY=-1SU
END:DAYLIGHT
BEGIN:STANDARD
TZOFFSETFROM:+0200
TZOFFSETTO:+0100
TZNAME:CET
DTSTART:19701025T030000
RRULE:FREQ=YEARLY;BYMONTH=10;BYDAY=-1SU
END:STANDARD
END:VTIMEZONE
BEGIN:VEVENT
UID:2485226:Event:1836318
DTSTAMP:20260422T213729Z
SUMMARY:Stage \"Communiquer avec la Nature\" -5-6/04/14 – St Pierre 
 de Bat(33)
DESCRIPTION:Ce stage est destiné aux personnes amoureuses de la Natur
 e et qui veulent aller au-delà du visible.\nCommuniquer avec la Natur
 e, c’est prendre le temps de :\nSe reconnecter avec l’Esprit de 
 la forêt, Se recentrer grâce à l’esprit du vent dans les arbres,
  Se ressourcer avec les plantes sauvages, Se laisser interpeller par
  un scarabée, Ressentir la beauté d’une fleur des champs, Vibrer
  devant la lumière filtrant à travers les arbres…\nMais c’est au
 ssi :\nLaisser aller ses émotions, Prendre conscience des énergies
  qui nous entourent et qui « habitent » la Nature, Effleurer l’
 écorce de l’arbre, entrer en relation,Ressentir une communication j
 usqu’alors inconnue et se nourrir de sa réponse, Intégrer l’én
 ergie dégagée, S’ouvrir à une autre dimension…\nProgressivemen
 t, avec l’aide de nos amis les chênes du causse, nous irons à la d
 écouverte du peuple de la forêt, visible et invisible.\nIl ne s’ag
 it pas d’une technique, mais d’une approche consciente. La médit
 ation nous permettra de nous laisser toucher par l’âme de la forêt
 … En se mettant à l’écoute, chacun pourra ressentir la présenc
 e en lui et autour de lui.\nPas de protocole, juste une mise à l’é
 coute…\nParallèlement, nous étudierons les Esprits de la Nature :
  leur hiérarchie, l'appartenance aux quatre éléments, eur taux vibr
 atoire, et leur rôle dans l'équilibre naturel et énergétique de la
  Vie.\nLe but du stage est de découvrir les énergies qui habitent le
 s bois, les prés, les jardins... Le protocole acquis du ressenti perm
 ettra de prendre conscience et communiquer avec l’invisible. Une app
 roche sensible et en même temps instinctive nous fera découvrir une 
 multitude d’êtres peuplant les autres dimensions, tels les Fées, N
 ains, Elfes, ou du moins ceux qui se présenteront à nous ce jour-là
  !\nL’essentiel sera d’établir un pont entre eux et chacun des pa
 rticipants afin d’apprendre à les reconnaître, établir des allian
 ces, retrouver son âme d’enfant avec l’expérience de l’adulte.
  Peut-être revivrez-vous si vous le désirez, la formidable et extrao
 rdinaire aventure des jardins de Findhorn.\n* Pour suivre ce stage, i
 l est nécessaire d’avoir suivi le stage ressenti et taux vibratoire
  niveau 1 ou la journée d’initiation précédant ce stage.\n \n\
 n\nPour plus d'information, aller sur https://epanews.fr/events/stage-
 communiquer-avec-la-nature-5-6-04-14-st-pierre-de-bat-33
DTSTART;TZID=Europe/Paris:20140404T000000
DTEND;TZID=Europe/Paris:20140406T235900
CATEGORIES:33
LOCATION:Région de Bordeaux 33
WEBSITE:http://energie-et-geobiologie.fr/stage-rencontre-esprits-natur
 e.htm
URL:http://energie-et-geobiologie.fr/stage-rencontre-esprits-nature.ht
 m
CONTACT:0616288911
ORGANIZER;CN="Nathalie Andreu Renault":https://epanews.fr/profile/Nath
 alieAndreuRenault
ATTACH;FMTTYPE="image/jpeg":http://storage.ning.com/topology/rest/1.0/
 file/get/1663092318?profile=original
ATTENDEE;ROLE=REQ-PARTICIPANT;PARTSTAT=ACCEPTED;RSVP=TRUE;CN="Nathalie
  Andreu Renault":https://epanews.fr/profile/NathalieAndreuRenault
END:VEVENT
END:VCALENDAR
