BEGIN:VCALENDAR
PRODID:NingEventWidget-v1
VERSION:2.0
METHOD:PUBLISH
BEGIN:VTIMEZONE
TZID:Europe/Paris
X-LIC-LOCATION:Europe/Paris
BEGIN:DAYLIGHT
TZOFFSETFROM:+0100
TZOFFSETTO:+0200
TZNAME:CEST
DTSTART:19700329T020000
RRULE:FREQ=YEARLY;BYMONTH=3;BYDAY=-1SU
END:DAYLIGHT
BEGIN:STANDARD
TZOFFSETFROM:+0200
TZOFFSETTO:+0100
TZNAME:CET
DTSTART:19701025T030000
RRULE:FREQ=YEARLY;BYMONTH=10;BYDAY=-1SU
END:STANDARD
END:VTIMEZONE
BEGIN:VEVENT
UID:2485226:Event:2634670
DTSTAMP:20260422T142824Z
SUMMARY:Stage clown nature
DESCRIPTION:Dans un merveilleux cadre naturel, nous explorerons à not
 re rythme les pépites de notre clown. Jubilation, sens en éveil, res
 sourcement et bienveillance pour cette journée.\n\nPour plus d'inform
 ation, aller sur https://epanews.fr/events/stage-clown-nature
DTSTART;TZID=Europe/Paris:20160611T000000
DTEND;TZID=Europe/Paris:20160611T235900
CATEGORIES:01, 71, 38, 69, 21
LOCATION:Villars les Dombes
WEBSITE:http://clowndenvie.com
URL:http://clowndenvie.com
CONTACT:0782282233
ORGANIZER;CN="danielle dubois":https://epanews.fr/profile/danielledubo
 is
ATTACH;FMTTYPE="image/jpeg":http://storage.ning.com/topology/rest/1.0/
 file/get/1663560886?profile=original
ATTENDEE;ROLE=REQ-PARTICIPANT;PARTSTAT=ACCEPTED;RSVP=TRUE;CN="danielle
  dubois":https://epanews.fr/profile/danielledubois
END:VEVENT
END:VCALENDAR
