BEGIN:VCALENDAR
PRODID:NingEventWidget-v1
VERSION:2.0
METHOD:PUBLISH
BEGIN:VTIMEZONE
TZID:Europe/Paris
X-LIC-LOCATION:Europe/Paris
BEGIN:DAYLIGHT
TZOFFSETFROM:+0100
TZOFFSETTO:+0200
TZNAME:CEST
DTSTART:19700329T020000
RRULE:FREQ=YEARLY;BYMONTH=3;BYDAY=-1SU
END:DAYLIGHT
BEGIN:STANDARD
TZOFFSETFROM:+0200
TZOFFSETTO:+0100
TZNAME:CET
DTSTART:19701025T030000
RRULE:FREQ=YEARLY;BYMONTH=10;BYDAY=-1SU
END:STANDARD
END:VTIMEZONE
BEGIN:VEVENT
UID:2485226:Event:1941282
DTSTAMP:20260422T154317Z
SUMMARY:Stage Clown en pleine nature pour adultes
DESCRIPTION:Dans un univers verdoyant et calme, nous irons à la (re)d
 écouverte du Clown qui vit en soi. A travers des échauffements ludiq
 ues et une mise en route de sa spontanéité, nous chausserons le merv
 eilleux Nez rouge, le plus petit masque du monde. Une belle aventure 
 qui se déroulera dans un espace naturel et généreux.\n\nPour plus 
 d'information, aller sur https://epanews.fr/events/stage-clown-en-plei
 ne-nature-pour-adultes
DTSTART;TZID=Europe/Paris:20140614T000000
DTEND;TZID=Europe/Paris:20140614T235900
CATEGORIES:01, 69, 38, 39
LOCATION:Villars les Dombes
WEBSITE:http://clowndenvie.e-monsite.com
URL:http://clowndenvie.e-monsite.com
CONTACT:0782282233
ORGANIZER;CN="danielle dubois":https://epanews.fr/profile/danielledubo
 is
ATTACH;FMTTYPE="image/jpeg":http://storage.ning.com/topology/rest/1.0/
 file/get/1663148408?profile=original
ATTENDEE;ROLE=REQ-PARTICIPANT;PARTSTAT=ACCEPTED;RSVP=TRUE;CN="danielle
  dubois":https://epanews.fr/profile/danielledubois
END:VEVENT
END:VCALENDAR
